{"text_format":"1","workbook":"xlsx","n_sheets":8,"sheets":["Fasi 1-5","IVA","Fase 6","Fase 7-7c","Fase 7b","Fase 8","Fase 9","Fase 10"],"not_rendered":{"charts":0,"images":0,"macros":1,"external_links":0,"defined_names":0,"comments":0,"pivot_tables":0},"unopened":[],"bounds":{"document_bytes":16777216,"sheet_cells":100000,"rows_first":2000,"rows_last":500,"rows_between":2000,"halvings":0,"cell_chars":16384,"cell_head_chars":4096},"cells_cut":0,"cells_raw":0,"read":"whole","date_system":"1900"}

{"sheet":"Fasi 1-5","index":0,"n_rows":64,"n_cols":6,"rows_kept":64,"cut":false,"hidden":false,"merged":[[37,2,38,2]]}
[null,"Fase 1","Piano Investimenti","Importo","Ammortamenti Annui"]
[null,null,"Brevetti",500000,{"$f":"+D2/20","v":25000}]
[null,null,"Impianti",1000000,{"$f":"+D3/10","v":100000}]
[null,null,"Attrezzature",800000,{"$f":"+D4/12","v":66666.666666666672}]
[null,null,"Autocarri",100000,{"$f":"+D5/4","v":25000}]
[null,null,"Totale",{"$f":"SUM(D2:D5)","v":2400000},{"$f":"SUM(E2:E5)","v":216666.66666666669}]
[null,null,null,"Rata","Quota Capitale","Interessi"]
[null,"1° Finanziamento","Finanziamento (7 anni, 5%)",{"$f":"+PMT(5%,7,D6-100000)","v":-397485.5824261927},{"$f":"+D8-F8","v":-296609.86154750234},{"$f":"+IPMT(5%,2,7,D6-100000)","v":-100875.72087869036}]
[null,"2° Finanziamento","Finanziamento (4 anni, 5%)",{"$f":"+PMT(5%,4,D5)","v":-28201.183260346275},{"$f":"+D9-F9","v":-23201.183260346275},{"$f":"+IPMT(5%,1,4,D5)","v":-5000}]
[]
[null,"Fase 2","Costi Fissi Industriali","Importo"]
[null,null,"Costo del lavoro",220000]
[null,null,"Utenze",12000]
[null,null,"Manutenzioni",55000]
[null,null,"Assicurazioni",25000]
[null,null,"Consulenze",28000]
[null,null,"Totale",{"$f":"SUM(D12:D16)","v":340000}]
[]
[null,"Fase 3","Costi Variabili Unitari","Importo","Incidenza sul prezzo di vendita"]
[null,null,"Ricavo per Metro Tessuto Greggio",3.5]
[null,null,"Costo del Filato",2.5,{"$f":"+D21/D20","v":0.7142857142857143}]
[null,null,"Costo dell'energia",0.28000000000000003,{"$f":"+D22/D20","v":0.08}]
[null,null,"Provvigioni",0.28000000000000003,{"$f":"+D23/D20","v":0.08}]
[null,null,"Imballaggi",0.1,{"$f":"+D24/D20","v":2.8571428571428574E-2}]
[null,null,"Tot. Costi Variabili",{"$f":"SUM(D21:D24)","v":3.1600000000000006},{"$f":"+D25/D20","v":0.90285714285714302}]
[null,null,"M.d.C. Unitario",{"$f":"+D20-D25","v":0.33999999999999941},{"$f":"+D26/D20","v":9.7142857142856975E-2}]
[]
[]
[null,"Fase 3b-3c","Margine di Produzione",null,null,"Incidenza su magazzino M.P."]
[null,null,"Costo Industriale pieno per Metro T.G.",3.15,null,"Incidenza su 100%"]
[null,null,{"$f":"+C21","v":"Costo del Filato"},{"$f":"+D21","v":2.5},{"$f":"+D31/$D$30","v":0.79365079365079372},{"$f":"+E31/(E31+E33)","v":0.96153846153846156}]
[null,null,{"$f":"+C22","v":"Costo dell'energia"},{"$f":"+D22","v":0.28000000000000003},{"$f":"+D32/$D$30","v":8.8888888888888906E-2},0]
[null,null,{"$f":"+C24","v":"Imballaggi"},{"$f":"+D24","v":0.1},3.1746031746031751E-2,{"$f":"+E33/(E33+E31)","v":3.8461538461538464E-2}]
[null,null,{"$f":"+C25","v":"Tot. Costi Variabili"},{"$f":"SUM(D31:D33)","v":2.8800000000000003},{"$f":"+D34/D30","v":0.91428571428571437}]
[null,null,"M.d.P. Unitario",{"$f":"+D30-D34","v":0.26999999999999957},{"$f":"+D35/D30","v":8.5714285714285576E-2},{"$f":"SUM(F31:F33)","v":1}]
[]
[null,null,null,"PESI "]
[null,null,"Ponderazione Margini per calcolo Valore della Produzione di Break Even",0.99707204288649354,{"$f":"+(D49-D56+'Fase 6'!D11)/D49","v":0.99707203573769376},{"$f":"+D38-E38","v":7.1487997743702181E-9}]
[null,null,null,{"$f":"100%-D38","v":2.927957113506463E-3}]
[null,null,"M.d.c. Ponderato",{"$f":"+D38*E26+E35*D39","v":9.7109394775845473E-2}]
[]
[null,"Fase 4","Costi Fissi Operativi",{"$f":"+D17","v":340000}]
[null,"Stima primo break even","Finanziamento Piano Investimenti",{"$f":"-D8-D9","v":425686.765686539}]
[null,null,"Interessi Passivi a breve (Fase 7b)",140207.43050409525,{"$f":"-'Fase 7-7c'!D25","v":140207.43050409513},{"$f":"+D44-E44","v":0}]
[null,"Flusso Fiscale","Imposte Anno 1",{"$f":"+'Fase 6'!G8","v":35757.558079365379}]
[null,null,"Acconto = 100% Imposte Anno 1",{"$f":"+'Fase 6'!G8","v":35757.558079365379}]
[null,"Uscite Finanziarie Fisse","Somma Flussi in Uscita",{"$f":"SUM(D42:D46)","v":977409.31234936509}]
[]
[null,"Valore della Produzione","Break Even Finanziario",{"$f":"+D47/D40","v":10065033.507885493},{"$f":"+\"(Flussi in uscita/M.d.C.% = \"&TEXT(D40,\"0,00%\")&\")\"","v":"(Flussi in uscita/M.d.C.% = 9,71%)"}]
[]
[null,"Fase 5"]
[null,"Stima CCNC Attivo","Acquisti M.P. Giornalieri",{"$f":"+(D49/365)*(E21+E24)*D38+(D49/365)*(E31+E33)*D39","v":20491.272541796825}]
[null,null,"Magazzino Mat. Prima",{"$f":"+D52*E53","v":819650.90167187294},40,"gg"]
[]
[null,null,"Costo del Venduto Giornaliero",{"$f":"+(D17+E6+((E21+E22+E24)*D49*D38)+((E31+E32+E33)*D49*D39))/365","v":24223.139124626083}]
[null,null,"Magazzino P. Finito",{"$f":"+D55*E56","v":726694.17373878253},30,"gg"]
[]
[null,null,"Fatturato Giornaliero",{"$f":"+(D49-D56+'Fase 6'!D11)/365","v":27494.694382124628},"Fatturato/365"]
[null,null,"Crediti V/Clienti",{"$f":"+D58*E59*(1+IVA!C2)","v":4025223.2575430451},120,"gg"]
[]
[null,null,"Acquisti Giornalieri",{"$f":"+D52+(D14/365)","v":20641.957473303675}]
[null,"Stima CCNC Passivo","Debiti V/Fornitori",{"$f":"+D61*E62*(1+IVA!C2)","v":3021982.574091658},120,"gg"]
[]
[null,null,"CCNC",{"$f":"+D59+D53+D56-D62","v":2549585.7588620419}]

{"sheet":"IVA","index":1,"n_rows":11,"n_cols":14,"rows_kept":11,"cut":false,"hidden":false,"merged":[]}
[null,"Momento 0"]
[null,"Aliquota Iva in vigore",0.22]
[null,"Credito Anno 1",{"$f":"+'Fase 6'!D12","v":682929.51444546948}]
[null,"Iva su Investimenti",{"$f":"+'Fasi 1-5'!D5*C2","v":22000},"a Credito"]
[]
[null,null,1,2,3,4,5,6,7,8,9,10,11,12]
[null,"Sviluppo Iva Mensile"]
[null,"Credito",{"$f":"+(('Fasi 1-5'!D17-'Fasi 1-5'!D15-'Fasi 1-5'!D12)/12*C2)-(SUM('Fase 7-7c'!D7:D10)/12*C2)","v":167211.59851589191},{"$f":"+C8","v":167211.59851589191},{"$f":"+D8","v":167211.59851589191},167211.59851589191,167211.59851589191,167211.59851589191,167211.59851589191,167211.59851589191,167211.59851589191,167211.59851589191,167211.59851589191,167211.59851589191]
[null,"Debito",{"$f":"+'Fase 7-7c'!D3/12*C2","v":183985.32990705065},{"$f":"+C9","v":183985.32990705065},183985.32990705065,183985.32990705065,183985.32990705065,183985.32990705065,183985.32990705065,183985.32990705065,183985.32990705065,183985.32990705065,183985.32990705065,183985.32990705065]
[]
[null,"Saldo a Credito",{"$f":"+C4+C3+C8-C9","v":688155.78305431083},{"$f":"+C11+D8-D9-D10","v":671382.05166315218},654608.32027199352,637834.58888083487,621060.85748967621,{"$f":"+G11+H8-H9-H10","v":604287.12609851756},{"$f":"+H11+I8-I9-I10","v":587513.39470735891},570739.66331620025,553965.9319250416,537192.20053388295,520418.46914272424,503644.73775156547]

{"sheet":"Fase 6","index":2,"n_rows":14,"n_cols":7,"rows_kept":14,"cut":false,"hidden":false,"merged":[[0,2,1,6]]}
[null,"Fase 6","Investimenti e Coperture al Momento 1"]
[]
[null,null,"Attivo Immobilizzato",2108333.3333333335,null,"Posizione Finanziaria Netta",5212788.5773841664]
[null,null,"Brevetti",475000,null,"Pos. Finanziaria Netta a M/L",2017514.4175738073]
[null,null,"Impianti",900000,null,"Pos. Finanziaria Netta a Breve",3195274.1598103587]
[null,null,"Attrezzature",733333.33333333337]
[]
[null,null,"Capitale Circolante",3695274.1598101887,null,"Posizione Tributaria Netta",35757.558079365379]
[null,null,"Crediti V/Clienti",3599726.7469141115]
[null,null,"Magazzino Mat. Prima",881642.44513038965,null,"Mezzi Propri",555061.35767999105]
[null,null,"Magazzino P. Finito",697224.11532877933,null,"Equity",500000]
[null,null,"Credito Iva",682929.51444546948,null,"Utile dell'esercizio",55061.357679990993]
[null,null,"Debiti V/Fornitori",-2166248.6620085617]
[null,null,"Totale Investimenti",5803607.4931435222,null,"Totale Coperture",5803607.4931435231]

{"sheet":"Fase 7-7c","index":3,"n_rows":30,"n_cols":7,"rows_kept":30,"cut":false,"hidden":false,"merged":[[0,2,1,3]]}
[null,"Fase 7a","Conto Economico al Momento 2"]
[]
[null,null,"Fatturato",{"$f":"+D5-D4","v":10035563.44947549}]
[null,null,"Variazione magazzino P.F.",{"$f":"-'Fase 6'!D11+'Fasi 1-5'!D56","v":29470.058410003199}]
[null,null,"Valore della Produzione",{"$f":"+'Fasi 1-5'!D49","v":10065033.507885493}]
[]
[null,null,{"$f":"+'Fasi 1-5'!C21","v":"Costo del Filato"},{"$f":"-$D$5*'Fasi 1-5'!E21*'Fasi 1-5'!D38-D5*'Fasi 1-5'!E31*'Fasi 1-5'!D39-D11*'Fasi 1-5'!F31","v":-7132041.2829781966}]
[null,null,{"$f":"+'Fasi 1-5'!C22","v":"Costo dell'energia"},{"$f":"-$D$5*'Fasi 1-5'!E22*'Fasi 1-5'!D38-D5*'Fasi 1-5'!E32*'Fasi 1-5'!D39","v":-805464.6360660136}]
[null,null,{"$f":"+'Fasi 1-5'!C23","v":"Provvigioni"},{"$f":"-$D$3*'Fasi 1-5'!E23","v":-802845.07595803915}]
[null,null,{"$f":"+'Fasi 1-5'!C24","v":"Imballaggi"},{"$f":"-$D$5*'Fasi 1-5'!E24*'Fasi 1-5'!D38-D5*'Fasi 1-5'!E33*'Fasi 1-5'!D39-D11*'Fasi 1-5'!F33","v":-285281.65131912788}]
[null,null,"Variazione magazzino M.P.",{"$f":"-'Fase 6'!D10+'Fasi 1-5'!D53","v":-61991.54345851671}]
[null,null,"Costi Variabili",{"$f":"SUM(D7:D11)","v":-9087624.1897798926}]
[null,null,{"$f":"+'Fasi 1-5'!C12","v":"Costo del lavoro"},{"$f":"-'Fasi 1-5'!D12","v":-220000}]
[null,null,{"$f":"+'Fasi 1-5'!C13","v":"Utenze"},{"$f":"-'Fasi 1-5'!D13","v":-12000}]
[null,null,{"$f":"+'Fasi 1-5'!C14","v":"Manutenzioni"},{"$f":"-'Fasi 1-5'!D14","v":-55000}]
[null,null,{"$f":"+'Fasi 1-5'!C15","v":"Assicurazioni"},{"$f":"-'Fasi 1-5'!D15","v":-25000}]
[null,null,{"$f":"+'Fasi 1-5'!C16","v":"Consulenze"},{"$f":"-'Fasi 1-5'!D16","v":-28000}]
[null,null,"Costi Fissi",{"$f":"SUM(D13:D17)","v":-340000}]
[null,null,"EBITDA/MOL",{"$f":"+D5+D12+D18","v":637409.31810560077}]
[null,null,"Ammortamenti",{"$f":"-'Fasi 1-5'!E6","v":-216666.66666666669}]
[null,null,"EBIT/Red.Operativo",{"$f":"+D19+D20","v":420742.65143893409}]
[null,null,"Interessi passivi a lungo",{"$f":"+'Fasi 1-5'!F8+'Fasi 1-5'!F9","v":-105875.72087869036}]
[]
[]
[null,"Fase 7b","Interessi passivi a breve",{"$f":"-'Fase 7b'!C27","v":-140207.43050409513},0.05,"su PFN a Breve Iniziale"]
["(si veda foglio dedicato)",null,"Utile Ante Imposte",{"$f":"+D21+D22+D25","v":174659.50005614859}]
[]
[]
[null,"Fase 7c","Imposte",{"$f":"IF(D26<0,(-(D26-D22-D25)*G30),(-(G29*D26+G30*(+D26-D25-D22))))","v":-58327.243419594088},null,"IRES",0.24]
[null,null,"Utile Netto",{"$f":"+D26+D29","v":116332.25663655451},null,"IRAP",3.9E-2]

{"sheet":"Fase 7b","index":4,"n_rows":29,"n_cols":4,"rows_kept":29,"cut":false,"hidden":false,"merged":[]}
[]
[]
[null,"Proxy PFN Finale"]
[1,"PFN Iniziale",{"$f":"+'Fase 6'!G5","v":3195274.1598103587}]
[]
[null,"Flussi di Cassa"]
[null,"Mol",{"$f":"+'Fase 7-7c'!D19","v":637409.31810560077}]
[null,"CCNC Iniziale",{"$f":"+'Fase 6'!D8","v":3695274.1598101887}]
[null,"CCNC Finale",{"$f":"+'Fasi 1-5'!D64+IVA!N11","v":3053230.4966136073}]
[null,"Delta CCNC",{"$f":"+C8-C9","v":642043.66319658142}]
["A","Cash Flow operativo",{"$f":"+C7+C10","v":1279452.9813021822}]
[null,"Ammortamenti",{"$f":"+'Fase 7-7c'!D20","v":-216666.66666666669}]
[null,"Investimenti Netti Iniziali",{"$f":"+'Fase 6'!D3","v":2108333.3333333335}]
[null,"Investimenti Netti Finali",{"$f":"+'Fase 7b'!C13+'Fasi 1-5'!D5-'Fasi 1-5'!E6","v":1991666.6666666667}]
[null,"Delta Investimenti",{"$f":"+C14-C13","v":-116666.66666666674}]
["B","Flusso per Investimenti",{"$f":"+C12-C15","v":-99999.999999999942}]
[null,"Flusso per Debito a Medio Lungo",{"$f":"+'Fasi 1-5'!D8+'Fasi 1-5'!D9","v":-425686.765686539}]
[null,"Erogazioni a medio lungo",{"$f":"+'Fasi 1-5'!D5","v":100000}]
["C","Flusso netto debito a M/L",{"$f":"+C17+C18","v":-325686.765686539}]
["D","Cash Flow Fiscale",{"$f":"-'Fase 6'!G8*2","v":-71515.116158730758}]
["E","Flusso Equity",0]
[]
["2 = A+B+C+D","Flussi in uscita",{"$f":"+C11+C16+C19+C20","v":782251.09945691237}]
[]
["1+2","PFN a Breve Finale pre Oneri Finanziari",{"$f":"+C4-C23","v":2413023.0603534463}]
[]
[null,"Oneri Finanziari",{"$f":"+AVERAGE(C25,C4)*D27","v":140207.43050409513},0.05]
[]
[null,"PFN a Breve Finale post Oneri Finanziari",{"$f":"+C25+C27","v":2553230.4908575416}]

{"sheet":"Fase 8","index":5,"n_rows":15,"n_cols":7,"rows_kept":15,"cut":false,"hidden":false,"merged":[[0,2,1,6]]}
[null,"Fase 8","Investimenti e Coperture al Momento 2"]
[]
[null,null,"Attivo Immobilizzato",{"$f":"+SUM(D4:D7)","v":1991666.6666666667},null,"Posizione Finanziaria Netta",{"$f":"SUM(G4:G5)","v":4350933.8636235008}]
[null,null,{"$f":"+'Fasi 1-5'!C2","v":"Brevetti"},{"$f":"+'Fase 6'!D4-'Fasi 1-5'!E2","v":450000},null,"Pos. Finanziaria Netta a M/L",{"$f":"+'Fase 6'!G4+'Fasi 1-5'!D5+'Fasi 1-5'!E8+'Fasi 1-5'!E9","v":1797703.3727659588}]
[null,null,{"$f":"+'Fasi 1-5'!C3","v":"Impianti"},{"$f":"+'Fase 6'!D5-'Fasi 1-5'!E3","v":800000},null,"Pos. Finanziaria Netta a Breve",{"$f":"+D15-G4-G9-G11","v":2553230.490857542}]
[null,null,{"$f":"+'Fasi 1-5'!C4","v":"Attrezzature"},{"$f":"+'Fase 6'!D6-'Fasi 1-5'!E4","v":666666.66666666674}]
[null,null,{"$f":"+'Fasi 1-5'!C5","v":"Autocarri"},{"$f":"+'Fasi 1-5'!D5-'Fasi 1-5'!E5","v":75000}]
[]
[null,null,{"$f":"+'Fase 6'!C8","v":"Capitale Circolante"},{"$f":"SUM(D10:D14)","v":3053230.4966136077},null,"Posizione Tributaria Netta",{"$f":"-'Fase 7-7c'!D29-'Fase 6'!G8","v":22569.685340228709}]
[null,null,{"$f":"+'Fase 6'!C9","v":"Crediti V/Clienti"},{"$f":"+'Fasi 1-5'!D59","v":4025223.2575430451}]
[null,null,{"$f":"+'Fase 6'!C10","v":"Magazzino Mat. Prima"},{"$f":"+'Fasi 1-5'!D53","v":819650.90167187294},null,"Mezzi Propri",{"$f":"+G12+G13","v":671393.61431654554}]
[null,null,{"$f":"+'Fase 6'!C11","v":"Magazzino P. Finito"},{"$f":"+'Fasi 1-5'!D56","v":726694.17373878253},null,"Equity",{"$f":"500000+'Fase 6'!G12","v":555061.35767999105}]
[null,null,"Credito Iva",{"$f":"+IVA!N11","v":503644.73775156547},null,"Utile dell'esercizio",{"$f":"+'Fase 7-7c'!D30","v":116332.25663655451}]
[null,null,{"$f":"+'Fase 6'!C13","v":"Debiti V/Fornitori"},{"$f":"-'Fasi 1-5'!D62","v":-3021982.574091658}]
[null,null,"Totale Investimenti",{"$f":"+D3+D9","v":5044897.1632802747},null,"Totale Coperture",{"$f":"+G9+G11+G3","v":5044897.1632802747}]

{"sheet":"Fase 9","index":6,"n_rows":37,"n_cols":4,"rows_kept":37,"cut":false,"hidden":false,"merged":[[0,2,0,3]]}
[null,"Fase 9","Rendiconto Finanziario (Determ. Cash Flow)"]
[null,null,null,"Anno 2"]
[]
[null,null,"EBITDA/M.O.L.",{"$f":"+'Fase 7-7c'!D19","v":637409.31810560077}]
[null,null,"CCNC Iniziale",{"$f":"+'Fase 6'!D8","v":3695274.1598101887}]
[null,null,"CCNC Finale",{"$f":"+'Fase 8'!D9","v":3053230.4966136077}]
[null,null,"Variazione Circolante",{"$f":"+D6-D5","v":-642043.66319658095}]
[]
[null,null,"CASH FLOW OPERATIVO",{"$f":"+D4-D7","v":1279452.9813021817}]
[]
[null,null,"Ammortamenti",{"$f":"+'Fase 7-7c'!D20","v":-216666.66666666669}]
[null,null,"Investimenti Iniziali",{"$f":"+'Fase 6'!D3","v":2108333.3333333335}]
[null,null,"Investimenti Finali",{"$f":"+'Fase 8'!D3","v":1991666.6666666667}]
[null,null,"Investimenti a patrimonio",{"$f":"+D13-D12","v":-116666.66666666674}]
[null,null,"Flusso di Cassa per investimenti",{"$f":"+D14-D11","v":99999.999999999942}]
[]
[null,null,"CASH FLOW DISPONIBILE",{"$f":"+D9-D15","v":1179452.9813021817}]
[]
[null,null,"Interessi Passivi netti",{"$f":"+'Fase 7-7c'!D22+'Fase 7-7c'!D25","v":-246083.15138278549}]
[null,null,"PFN Iniziale",{"$f":"+'Fase 6'!G3","v":5212788.5773841664}]
[null,null,"PFN Finale",{"$f":"+'Fase 8'!G3","v":4350933.8636235008}]
[null,null,"Variazione dell'indebitamento finanziario",{"$f":"+D21-D20","v":-861854.71376066562}]
[null,null,"Cash Flow per il servizio del debito",{"$f":"+D22+D19","v":-1107937.8651434511}]
[]
[null,null,"Cash Flow per la gestione straordinaria",0]
[]
[null,null,"Imposte d'esercizio",{"$f":"+'Fase 7-7c'!D29","v":-58327.243419594088}]
[null,null,"PTN Iniziale",{"$f":"+'Fase 6'!G8","v":35757.558079365379}]
[null,null,"PTN Finale",{"$f":"+'Fase 8'!G9","v":22569.685340228709}]
[null,null,"Variazione debiti fiscali",{"$f":"+D29-D28","v":-13187.87273913667}]
[null,null,"Cash Flow Fiscale",{"$f":"+D27+D30","v":-71515.116158730758}]
[]
[null,null,"Utile",{"$f":"+D4+D11+D19+D25+D27","v":116332.25663655451}]
[null,null,"Equity Iniziale",{"$f":"+'Fase 6'!G10","v":555061.35767999105}]
[null,null,"Equity Finale",{"$f":"+D6+D13-D21-D29","v":671393.61431654519}]
[null,null,"Variazione dei mezzi propri",{"$f":"D35-D34","v":116332.25663655414}]
[null,null,"CASH FLOW PER LA PROPRIETA'",{"$f":"D36-D33","v":-3.637978807091713E-10}]

{"sheet":"Fase 10","index":7,"n_rows":6,"n_cols":4,"rows_kept":6,"cut":false,"hidden":false,"merged":[]}
[]
[null,"Fase 10","MdC",{"$f":"+'Fasi 1-5'!E26","v":9.7142857142856975E-2}]
[null,null,"Costi Fissi Operativi",{"$f":"+'Fasi 1-5'!D42","v":340000}]
[null,null,"Valore della Produzione",{"$f":"+'Fasi 1-5'!D49","v":10065033.507885493}]
[null,null,"Interessi Passivi",{"$f":"+'Fase 7-7c'!D22+'Fase 7-7c'!D25","v":-246083.15138278549}]
[null,null,"PFN",{"$f":"+'Fase 8'!G3","v":4350933.8636235008}]