{"text_format":"1","workbook":"xlsx","n_sheets":10,"sheets":["Fasi 1-5","IVA","Fase 6 Budget di Cassa","Fase 6 CE","Fase 6 SP","Fase 7 - 7c-d","Fase 7b","Fase 8","Fase 9","Fase 10"],"not_rendered":{"charts":0,"images":0,"macros":1,"external_links":0,"defined_names":0,"comments":1,"pivot_tables":0},"unopened":[],"bounds":{"document_bytes":16777216,"sheet_cells":100000,"rows_first":2000,"rows_last":500,"rows_between":2000,"halvings":0,"cell_chars":16384,"cell_head_chars":4096},"cells_cut":0,"cells_raw":0,"read":"whole","date_system":"1900"}

{"sheet":"Fasi 1-5","index":0,"n_rows":61,"n_cols":6,"rows_kept":61,"cut":false,"hidden":false,"merged":[[34,1,37,1]]}
[null,"Fase 1","Piano Investimenti","Importo","Ammortamenti Annui"]
[null,null,"Brevetti",500000,{"$f":"+D2/20","v":25000}]
[null,null,"Impianti",1000000,{"$f":"+D3/10","v":100000}]
[null,null,"Attrezzature",800000,{"$f":"+D4/12","v":66666.666666666672}]
[null,null,"Totale",{"$f":"SUM(D2:D4)","v":2300000},{"$f":"SUM(E2:E4)","v":191666.66666666669}]
[null,null,null,"Rata","Quota Capitale","Interessi"]
[null,null,"Finanziamento (7 anni, 5%)",{"$f":"+PMT(5%,7,D5)","v":-397485.5824261927},{"$f":"+D7-F7","v":-282485.5824261927},{"$f":"+IPMT(5%,1,7,D5)","v":-115000}]
[]
[null,"Fase 2","Costi Fissi Industriali","Importo"]
[null,null,"Costo del lavoro",200000]
[null,null,"Utenze",10000]
[null,null,"Manutenzioni",50000]
[null,null,"Assicurazioni",25000]
[null,null,"Consulenze",30000]
[null,null,"Totale",{"$f":"SUM(D10:D14)","v":315000}]
[]
[null,"Fase 3","Costi Variabili Unitari","Importo","Incidenza sul prezzo di vendita"]
[null,null,"Ricavo per Metro Tessuto Greggio",3.5]
[null,null,"Costo del Filato",2.5,{"$f":"+D19/D18","v":0.7142857142857143}]
[null,null,"Costo dell'energia",0.3,{"$f":"+D20/D18","v":8.5714285714285715E-2}]
[null,null,"Provvigioni",0.28000000000000003,{"$f":"+D21/D18","v":0.08}]
[null,null,"Imballaggi",0.1,{"$f":"+D22/D18","v":2.8571428571428574E-2}]
[null,null,"Tot. Costi Variabili",{"$f":"SUM(D19:D22)","v":3.18},{"$f":"+D23/D18","v":0.90857142857142859}]
[null,null,"M.d.C. Unitario",{"$f":"+D18-D23","v":0.31999999999999984},{"$f":"+D24/D18","v":9.1428571428571387E-2}]
[]
[]
[null,"Fase 3b-3c","Margine di Produzione",null,null,"Incidenza su magazzino M.P."]
[null,null,"Costo Industriale pieno per Metro T.G.",3.15,null,"Incidenza su 100%"]
[null,null,{"$f":"+C19","v":"Costo del Filato"},{"$f":"+D19","v":2.5},{"$f":"+D29/$D$28","v":0.79365079365079372},{"$f":"+E29/(E29+E31)","v":0.96153846153846156}]
[null,null,{"$f":"+C20","v":"Costo dell'energia"},{"$f":"+D20","v":0.3},{"$f":"+D30/$D$28","v":9.5238095238095233E-2},0]
[null,null,{"$f":"+C22","v":"Imballaggi"},{"$f":"+D22","v":0.1},3.1746031746031751E-2,{"$f":"+E31/(E31+E29)","v":3.8461538461538464E-2}]
[null,null,{"$f":"+C23","v":"Tot. Costi Variabili"},{"$f":"SUM(D29:D31)","v":2.9},{"$f":"+D32/D28","v":0.92063492063492058}]
[null,null,"M.d.P. Unitario",{"$f":"+D28-D32","v":0.25},{"$f":"+D33/D28","v":7.9365079365079361E-2},{"$f":"SUM(F29:F31)","v":1}]
[]
[null,"Ponderazione Margini per calcolo Valore della Produzione di Break Even",null,"PESI"]
[null,null,"Peso Vendite",0.9259613025258997,{"$f":"+(D46-D53)/D46","v":0.9259613025258997},{"$f":"+D36-E36","v":0}]
[null,null,"Peso Delta Magazzino Prodotto Finito",{"$f":"100%-D36","v":7.4038697474100301E-2}]
[null,null,"M.d.c. Ponderato",{"$f":"+D36*E24+E33*D37","v":9.0535406189201292E-2}]
[]
[null,"Fase 4","Costi Fissi Operativi",{"$f":"+D15","v":315000}]
[null,"Stima primo break even","Finanziamento Piano Investimenti",{"$f":"-D7","v":397485.5824261927}]
[null,null,"Interessi Passivi a breve (Fase 7b)",151759.73961814513,{"$f":"+'Fase 7b'!C27","v":151759.73961814152},{"$f":"+D42-E42","v":3.6088749766349792E-9}]
[]
[null,"Uscite Finanziarie Fisse","Somma Flussi in Uscita",{"$f":"SUM(D40:D43)","v":864245.32204433787}]
[]
[null,"Valore della Produzione","Break Even Finanziario",{"$f":"+D44/D38","v":9545937.4229595233},{"$f":"+\"(Flussi in uscita/M.d.C.% = \"&TEXT(D38,\"0,00%\")&\")\"","v":"(Flussi in uscita/M.d.C.% = 9,05%)"}]
[]
[null,"Fase 5"]
[null,"Stima CCNC Attivo","Acquisti M.P. Giornalieri",{"$f":"+(D46/360)*(((E29+E31)*D37)+((E19+E22)*D36))","v":19860.011861284158}]
[null,null,"Magazzino Mat. Prima",{"$f":"+D49*E50","v":893700.53375778708},45,"gg"]
[]
[null,null,"Costo del Venduto Giornaliero",{"$f":"+(D15+E5+((((E19+E20+E22)*D36)+((E29+E30+E31)*D37))*D46))/360","v":23558.959098839739}]
[null,null,"Magazzino P. Finito",{"$f":"+D52*E53","v":706768.77296519221},30,"gg"]
[]
[null,null,"Fatturato Giornaliero",{"$f":"+(D46-D53)/270","v":32737.661666645668},"Fatturato/270"]
[null,null,"Crediti V/Clienti",{"$f":"+D55*E56*(1+IVA!C2)","v":3594595.2509976942},90,"gg"]
[]
[null,null,"Acquisti Giornalieri",{"$f":"+D49+(D12/360)","v":19998.900750173048}]
[null,"Stima CCNC Passivo","Debiti V/Fornitori",{"$f":"+D58*E59*(1+IVA!C2)","v":2195879.3023690009},90,"gg"]
[]
[null,null,"CCNC",{"$f":"+D56+D50+D53-D59","v":2999185.2553516724}]

{"sheet":"IVA","index":1,"n_rows":33,"n_cols":14,"rows_kept":33,"cut":false,"hidden":false,"merged":[[9,7,10,7],[9,4,10,4]]}
[null,"Momento 0"]
[null,"Aliquota Iva in vigore",0.22]
[null,"Iva su Investimenti",{"$f":"+'Fasi 1-5'!D5*C2","v":506000},"a Credito"]
[]
[null,null,1,2,3,4,5,6,7,8,9,10,11,12]
[null,"Sviluppo Iva Mensile"]
[null,"Credito",{"$f":"+D27+D33","v":344464.35859016655},{"$f":"+D27","v":147850.24116345341},{"$f":"+D7","v":147850.24116345341},{"$f":"+E7+D31","v":165135.72652344231},165135.72652344231,165135.72652344231,165135.72652344231,165135.72652344231,165135.72652344231,165135.72652344231,165135.72652344231,165135.72652344231]
[null,"Debito",0,0,0,{"$f":"+D14","v":216068.56699986142},{"$f":"+F8","v":216068.56699986142},216068.56699986142,216068.56699986142,216068.56699986142,216068.56699986142,216068.56699986142,216068.56699986142,216068.56699986142]
[null,"Saldo a Credito",{"$f":"+C3+C7-C8","v":850464.35859016655},{"$f":"+C9+D7-D8","v":998314.59975361999},{"$f":"+D9+E7-E8","v":1146164.8409170734},{"$f":"+E9+F7-F8","v":1095232.0004406543},1044299.1599642352,993366.31948781607,942433.47901139699,891500.63853497792,840567.79805855884,789634.95758213976,738702.11710572068,687769.2766293016]
[null,null,null,null,"Picco del credito Iva",null,null,"Picco del cap. circolante"]
[]
[null,null,"Fatturato",{"$f":"+'Fase 7 - 7c-d'!D3","v":8839168.6499943305}]
[null,null,"Fatturato/9",{"$f":"+D12/9","v":982129.84999937005},"(Le vendite partono in differita)"]
[null,null,{"$f":"+\"Fatturato/9*\"&C2","v":"Fatturato/9*0,22"},{"$f":"+D13*C2","v":216068.56699986142}]
[]
[null,"Acquisti ad Iva Fissi","Utenze",{"$f":"+'Fasi 1-5'!D11","v":10000}]
[null,null,"Manutenzioni",{"$f":"+'Fasi 1-5'!D12","v":50000}]
[null,null,"Consulenze",{"$f":"+'Fasi 1-5'!D14","v":30000}]
[]
[null,"Acquisti ad Iva Variabili","Costo del Filato",{"$f":"-'Fase 7 - 7c-d'!D7","v":7733946.9267500807}]
[null,null,"Costo dell'energia",{"$f":"-'Fase 7 - 7c-d'!D8","v":824954.33885334188}]
[null,null,"Imballaggi",{"$f":"-'Fase 7 - 7c-d'!D10","v":309357.87707000325}]
[null,null,"Acquisti per magazzino M.P.",{"$f":"+'Fasi 1-5'!D50","v":893700.53375778708},"(Immediati)"]
[]
[null,null,"Totale (netto magazzino M.P.)",{"$f":"SUM(D16:D22)-D23","v":8064558.60891564}]
[null,null,"Totale/12",{"$f":"+D25/12","v":672046.55074296996}]
[null,null,{"$f":"+\"Totale/12*\"&C2","v":"Totale/12*0,22"},{"$f":"+D26*C2","v":147850.24116345341}]
[]
[null,null,"Provvigioni",{"$f":"-'Fase 7 - 7c-d'!D9","v":707133.49199954653}]
[null,null,"Provvigioni/9",{"$f":"+D29/9","v":78570.387999949613},"(su nove mesi! Seguono il fatturato)"]
[null,null,"Provvigioni/9*0,22",{"$f":"+D30*C2","v":17285.485359988914}]
[]
[null,null,"Iva su Acquisto magazzino M.P.",{"$f":"+D23*C2","v":196614.11742671317},"(caricata su mese 1)"]

{"sheet":"Fase 6 Budget di Cassa","index":2,"n_rows":58,"n_cols":17,"rows_kept":58,"cut":false,"hidden":false,"merged":[]}
[]
[null,1,2,3,4,5,6,7,8,9,10,11,12,"TOTALE","TOTALE SENZA IVA (OVE APPLICABILE)"]
["Entrate"]
["Incassi Vendite (iva inclusa)",null,null,null,null,null,null,{"$f":"+IVA!D13*(1+IVA!$C$2)","v":1198198.4169992313},{"$f":"+H4","v":1198198.4169992313},{"$f":"+I4","v":1198198.4169992313},1198198.4169992313,1198198.4169992313,1198198.4169992313,{"$f":"SUM(B4:M4)","v":7189190.5019953875},{"$f":"+N4/(1+IVA!$C$2)","v":5892779.0999962194}]
["Equity Capital",{"$f":"+'Fase 6 SP'!G12","v":500000},null,null,null,null,null,null,null,null,null,null,null,{"$f":"SUM(B5:M5)","v":500000},{"$f":"+N5","v":500000}]
["Finanziamento Investimenti",{"$f":"+'Fasi 1-5'!D5","v":2300000},null,null,null,null,null,null,null,null,null,null,null,2300000,{"$f":"+N6","v":2300000}]
["Totale Entrate",{"$f":"SUM(B4:B6)","v":2800000},{"$f":"SUM(C4:C6)","v":0},0,0,0,0,1198198.4169992313,1198198.4169992313,1198198.4169992313,1198198.4169992313,1198198.4169992313,1198198.4169992313,9989190.5019953884,8692779.0999962203]
[]
["Uscite",null,null,null,null,null,null,null,null,null,null,null,null,{"$f":"SUM(B9:M9)","v":0},{"$f":"+N9/(1+IVA!$C$2)","v":0}]
["Investimenti",{"$f":"+'Fasi 1-5'!D5*(1+IVA!C2)","v":2806000},null,null,null,null,null,null,null,null,null,null,null,2806000,{"$f":"+N10/(1+IVA!$C$2)","v":2300000}]
["Finanziamento quota Capitale",{"$f":"-'Fasi 1-5'!E7/12","v":23540.465202182724},{"$f":"+B11","v":23540.465202182724},{"$f":"+C11","v":23540.465202182724},23540.465202182724,23540.465202182724,23540.465202182724,23540.465202182724,23540.465202182724,23540.465202182724,23540.465202182724,23540.465202182724,23540.465202182724,282485.58242619276,{"$f":"+N11","v":282485.58242619276}]
["Finanziamento quota Interessi",{"$f":"-'Fasi 1-5'!F7/12","v":9583.3333333333339},{"$f":"+B12","v":9583.3333333333339},{"$f":"+C12","v":9583.3333333333339},9583.3333333333339,9583.3333333333339,9583.3333333333339,9583.3333333333339,9583.3333333333339,9583.3333333333339,9583.3333333333339,9583.3333333333339,9583.3333333333339,114999.99999999999,{"$f":"+N12","v":114999.99999999999}]
["Interessi su PFN a breve",null,null,null,null,null,null,null,null,null,null,null,{"$f":"+'Fase 7b'!C27","v":151759.73961814152},151759.73961814152,{"$f":"+N13","v":151759.73961814152}]
[null,null,null,null,null,null,null,null,null,null,null,null,null,0,{"$f":"+N14/(1+IVA!$C$2)","v":0}]
[{"$f":"+'Fasi 1-5'!C10","v":"Costo del lavoro"},{"$f":"+'Fasi 1-5'!D10/12","v":16666.666666666668},{"$f":"+B15","v":16666.666666666668},{"$f":"+C15","v":16666.666666666668},{"$f":"+D15","v":16666.666666666668},16666.666666666668,16666.666666666668,16666.666666666668,16666.666666666668,16666.666666666668,16666.666666666668,16666.666666666668,16666.666666666668,199999.99999999997,{"$f":"+N15","v":199999.99999999997}]
[{"$f":"+'Fasi 1-5'!C11","v":"Utenze"},{"$f":"+'Fasi 1-5'!D11/12*(1+IVA!C2)","v":1016.6666666666667},{"$f":"+B16","v":1016.6666666666667},1016.6666666666667,1016.6666666666667,1016.6666666666667,1016.6666666666667,1016.6666666666667,1016.6666666666667,1016.6666666666667,1016.6666666666667,1016.6666666666667,1016.6666666666667,12200,{"$f":"+N16/(1+IVA!$C$2)","v":10000}]
[{"$f":"+'Fasi 1-5'!C12","v":"Manutenzioni"},null,null,null,{"$f":"+'Fasi 1-5'!D12/12*(1+IVA!C2)","v":5083.3333333333339},{"$f":"+E17","v":5083.3333333333339},5083.3333333333339,5083.3333333333339,5083.3333333333339,5083.3333333333339,5083.3333333333339,5083.3333333333339,5083.3333333333339,45750.000000000015,{"$f":"+N17/(1+IVA!$C$2)","v":37500.000000000015},null,{"$f":"+E17/30*90","v":15250.000000000002}]
[{"$f":"+'Fasi 1-5'!C13","v":"Assicurazioni"},{"$f":"+'Fasi 1-5'!D13","v":25000},null,null,null,null,null,null,null,null,null,null,null,25000,{"$f":"+N18","v":25000}]
[{"$f":"+'Fasi 1-5'!C14","v":"Consulenze"},{"$f":"+'Fasi 1-5'!D14/12*(1+IVA!C2)","v":3050},3050,3050,3050,3050,3050,3050,3050,3050,3050,3050,3050,36600,{"$f":"+N19/(1+IVA!$C$2)","v":30000}]
[null,null,null,null,null,null,null,null,null,null,null,null,null,0,{"$f":"+N20/(1+IVA!$C$2)","v":0}]
[{"$f":"+'Fasi 1-5'!C19","v":"Costo del Filato"},null,null,null,{"$f":"+(IVA!D20-(IVA!D23*'Fasi 1-5'!F29))/12*(1+IVA!C2)","v":698919.64819519245},{"$f":"+E21","v":698919.64819519245},{"$f":"+F21","v":698919.64819519245},698919.64819519245,698919.64819519245,698919.64819519245,698919.64819519245,698919.64819519245,698919.64819519245,{"$f":"SUM(C21:M21)","v":6290276.8337567309},{"$f":"+N21/(1+IVA!$C$2)","v":5155964.6178333862},null,{"$f":"+E21/30*90","v":2096758.9445855774}]
[{"$f":"+'Fasi 1-5'!C20","v":"Costo dell'energia"},{"$f":"+IVA!D21/12*(1+IVA!C2)","v":83870.357783423096},{"$f":"+B22","v":83870.357783423096},{"$f":"+C22","v":83870.357783423096},83870.357783423096,83870.357783423096,83870.357783423096,83870.357783423096,83870.357783423096,83870.357783423096,83870.357783423096,83870.357783423096,83870.357783423096,1006444.2934010769,{"$f":"+N22/(1+IVA!$C$2)","v":824954.33885334176}]
[{"$f":"+'Fasi 1-5'!C21","v":"Provvigioni"},null,null,null,{"$f":"+IVA!D29/9*(1+IVA!C2)","v":95855.87335993853},{"$f":"+E23","v":95855.87335993853},{"$f":"+F23","v":95855.87335993853},95855.87335993853,95855.87335993853,95855.87335993853,95855.87335993853,95855.87335993853,95855.87335993853,862702.86023944663,{"$f":"+N23/(1+IVA!$C$2)","v":707133.49199954642}]
[{"$f":"+'Fasi 1-5'!C22","v":"Imballaggi"},null,null,null,{"$f":"+(IVA!D22-(IVA!D23*'Fasi 1-5'!F31))/12*(1+IVA!C2)","v":27956.785927807698},{"$f":"+E24","v":27956.785927807698},{"$f":"+F24","v":27956.785927807698},27956.785927807698,27956.785927807698,27956.785927807698,27956.785927807698,27956.785927807698,27956.785927807698,{"$f":"SUM(C24:M24)","v":251611.07335026932},{"$f":"+N24/(1+IVA!$C$2)","v":206238.5847133355},null,{"$f":"+E24/30*90","v":83870.357783423096}]
[{"$f":"+IVA!C23","v":"Acquisti per magazzino M.P."},null,null,null,{"$f":"+IVA!D23*(1+IVA!C2)","v":1090314.6511845002},null,null,null,null,null,null,null,null,1090314.6511845002,{"$f":"+N25/(1+IVA!$C$2)","v":893700.53375778708}]
["Totale Uscite",{"$f":"SUM(B10:B25)","v":2968727.4896522723},{"$f":"SUM(C10:C25)","v":137727.48965227249},137727.48965227249,2055857.7816530447,965543.13046854443,965543.13046854443,965543.13046854443,965543.13046854443,965543.13046854443,965543.13046854443,965543.13046854443,{"$f":"SUM(M10:M25)","v":1117302.870086686},13176145.033976357,{"$f":"SUM(O10:O25)","v":10939736.889201732},null,{"$f":"SUM(Q17:Q24)","v":2195879.3023690009}]
[]
["Saldo Entrate-Uscite",{"$f":"+B7-B26","v":-168727.48965227231},{"$f":"+B28+C7-C26","v":-306454.9793045448},-444182.46895681729,-2500040.2506098622,-3465583.3810784067,-4431126.5115469508,-4198471.2250162642,-3965815.9384855777,-3733160.6519548912,-3500505.3654242046,-3267850.0788935181,-3186954.5319809727,{"$f":"+N7-N26","v":-3186954.531980969},{"$f":"+O7-O26","v":-2246957.789205512}]
[]
[null,{"$f":"+IF(B28=MIN($B$28:$M$28),B28,0)","v":0},{"$f":"+IF(C28=MIN($B$28:$M$28),C28,0)","v":0},0,0,0,-4431126.5115469508,0,0,0,0,0,0]
[null,{"$f":"+IF(B30<>0,\"Picco esigenze di liquidità\",\"\")","v":""},{"$f":"+IF(C30<>0,\"Picco esigenze di liquidità\",\"\")","v":""},"","","","Picco esigenze di liquidità","","","","","",""]
[]
["Double Check Iva"]
[{"$f":"+A10","v":"Investimenti"},{"$f":"+B10/(1+IVA!$C$2)*IVA!$C$2","v":506000},{"$f":"+C10/(1+IVA!$C$2)*IVA!$C$2","v":0},{"$f":"+D10/(1+IVA!$C$2)*IVA!$C$2","v":0},{"$f":"+E10/(1+IVA!$C$2)*IVA!$C$2","v":0},{"$f":"+F10/(1+IVA!$C$2)*IVA!$C$2","v":0},{"$f":"+G10/(1+IVA!$C$2)*IVA!$C$2","v":0},{"$f":"+H10/(1+IVA!$C$2)*IVA!$C$2","v":0},{"$f":"+I10/(1+IVA!$C$2)*IVA!$C$2","v":0},{"$f":"+J10/(1+IVA!$C$2)*IVA!$C$2","v":0},{"$f":"+K10/(1+IVA!$C$2)*IVA!$C$2","v":0},{"$f":"+L10/(1+IVA!$C$2)*IVA!$C$2","v":0},{"$f":"+M10/(1+IVA!$C$2)*IVA!$C$2","v":0}]
[{"$f":"+A11","v":"Finanziamento quota Capitale"}]
[{"$f":"+A12","v":"Finanziamento quota Interessi"}]
[{"$f":"+A13","v":"Interessi su PFN a breve"}]
[]
[{"$f":"+A15","v":"Costo del lavoro"}]
[{"$f":"+A16","v":"Utenze"},{"$f":"+B16/(1+IVA!$C$2)*IVA!$C$2","v":183.33333333333334},{"$f":"+C16/(1+IVA!$C$2)*IVA!$C$2","v":183.33333333333334},{"$f":"+D16/(1+IVA!$C$2)*IVA!$C$2","v":183.33333333333334},{"$f":"+E16/(1+IVA!$C$2)*IVA!$C$2","v":183.33333333333334},{"$f":"+F16/(1+IVA!$C$2)*IVA!$C$2","v":183.33333333333334},{"$f":"+G16/(1+IVA!$C$2)*IVA!$C$2","v":183.33333333333334},{"$f":"+H16/(1+IVA!$C$2)*IVA!$C$2","v":183.33333333333334},{"$f":"+I16/(1+IVA!$C$2)*IVA!$C$2","v":183.33333333333334},{"$f":"+J16/(1+IVA!$C$2)*IVA!$C$2","v":183.33333333333334},{"$f":"+K16/(1+IVA!$C$2)*IVA!$C$2","v":183.33333333333334},{"$f":"+L16/(1+IVA!$C$2)*IVA!$C$2","v":183.33333333333334},{"$f":"+M16/(1+IVA!$C$2)*IVA!$C$2","v":183.33333333333334}]
[{"$f":"+A17","v":"Manutenzioni"},{"$f":"+E17/(1+IVA!$C$2)*IVA!$C$2","v":916.66666666666674},{"$f":"+F17/(1+IVA!$C$2)*IVA!$C$2","v":916.66666666666674},{"$f":"+G17/(1+IVA!$C$2)*IVA!$C$2","v":916.66666666666674},{"$f":"+H17/(1+IVA!$C$2)*IVA!$C$2","v":916.66666666666674},{"$f":"+I17/(1+IVA!$C$2)*IVA!$C$2","v":916.66666666666674},{"$f":"+J17/(1+IVA!$C$2)*IVA!$C$2","v":916.66666666666674},{"$f":"+K17/(1+IVA!$C$2)*IVA!$C$2","v":916.66666666666674},{"$f":"+L17/(1+IVA!$C$2)*IVA!$C$2","v":916.66666666666674},{"$f":"+M17/(1+IVA!$C$2)*IVA!$C$2","v":916.66666666666674},{"$f":"+J41","v":916.66666666666674},{"$f":"+K41","v":916.66666666666674},{"$f":"+L41","v":916.66666666666674}]
[{"$f":"+A18","v":"Assicurazioni"}]
[{"$f":"+A19","v":"Consulenze"},{"$f":"+B19/(1+IVA!$C$2)*IVA!$C$2","v":550},{"$f":"+C19/(1+IVA!$C$2)*IVA!$C$2","v":550},{"$f":"+D19/(1+IVA!$C$2)*IVA!$C$2","v":550},{"$f":"+E19/(1+IVA!$C$2)*IVA!$C$2","v":550},{"$f":"+F19/(1+IVA!$C$2)*IVA!$C$2","v":550},{"$f":"+G19/(1+IVA!$C$2)*IVA!$C$2","v":550},{"$f":"+H19/(1+IVA!$C$2)*IVA!$C$2","v":550},{"$f":"+I19/(1+IVA!$C$2)*IVA!$C$2","v":550},{"$f":"+J19/(1+IVA!$C$2)*IVA!$C$2","v":550},{"$f":"+K19/(1+IVA!$C$2)*IVA!$C$2","v":550},{"$f":"+L19/(1+IVA!$C$2)*IVA!$C$2","v":550},{"$f":"+M19/(1+IVA!$C$2)*IVA!$C$2","v":550}]
[]
[{"$f":"+A21","v":"Costo del Filato"},{"$f":"+E21/(1+IVA!$C$2)*IVA!$C$2","v":126034.69065814947},{"$f":"+F21/(1+IVA!$C$2)*IVA!$C$2","v":126034.69065814947},{"$f":"+G21/(1+IVA!$C$2)*IVA!$C$2","v":126034.69065814947},{"$f":"+H21/(1+IVA!$C$2)*IVA!$C$2","v":126034.69065814947},{"$f":"+I21/(1+IVA!$C$2)*IVA!$C$2","v":126034.69065814947},{"$f":"+J21/(1+IVA!$C$2)*IVA!$C$2","v":126034.69065814947},{"$f":"+K21/(1+IVA!$C$2)*IVA!$C$2","v":126034.69065814947},{"$f":"+L21/(1+IVA!$C$2)*IVA!$C$2","v":126034.69065814947},{"$f":"+M21/(1+IVA!$C$2)*IVA!$C$2","v":126034.69065814947},{"$f":"+J45","v":126034.69065814947},{"$f":"+K45","v":126034.69065814947},{"$f":"+L45","v":126034.69065814947}]
[{"$f":"+A22","v":"Costo dell'energia"},{"$f":"+B22/(1+IVA!$C$2)*IVA!$C$2","v":15124.162878977935},{"$f":"+C22/(1+IVA!$C$2)*IVA!$C$2","v":15124.162878977935},{"$f":"+D22/(1+IVA!$C$2)*IVA!$C$2","v":15124.162878977935},{"$f":"+E22/(1+IVA!$C$2)*IVA!$C$2","v":15124.162878977935},{"$f":"+F22/(1+IVA!$C$2)*IVA!$C$2","v":15124.162878977935},{"$f":"+G22/(1+IVA!$C$2)*IVA!$C$2","v":15124.162878977935},{"$f":"+H22/(1+IVA!$C$2)*IVA!$C$2","v":15124.162878977935},{"$f":"+I22/(1+IVA!$C$2)*IVA!$C$2","v":15124.162878977935},{"$f":"+J22/(1+IVA!$C$2)*IVA!$C$2","v":15124.162878977935},{"$f":"+K22/(1+IVA!$C$2)*IVA!$C$2","v":15124.162878977935},{"$f":"+L22/(1+IVA!$C$2)*IVA!$C$2","v":15124.162878977935},{"$f":"+M22/(1+IVA!$C$2)*IVA!$C$2","v":15124.162878977935}]
[{"$f":"+A23","v":"Provvigioni"},{"$f":"+B23/(1+IVA!$C$2)*IVA!$C$2","v":0},{"$f":"+C23/(1+IVA!$C$2)*IVA!$C$2","v":0},{"$f":"+D23/(1+IVA!$C$2)*IVA!$C$2","v":0},{"$f":"+E23/(1+IVA!$C$2)*IVA!$C$2","v":17285.485359988914},{"$f":"+F23/(1+IVA!$C$2)*IVA!$C$2","v":17285.485359988914},{"$f":"+G23/(1+IVA!$C$2)*IVA!$C$2","v":17285.485359988914},{"$f":"+H23/(1+IVA!$C$2)*IVA!$C$2","v":17285.485359988914},{"$f":"+I23/(1+IVA!$C$2)*IVA!$C$2","v":17285.485359988914},{"$f":"+J23/(1+IVA!$C$2)*IVA!$C$2","v":17285.485359988914},{"$f":"+K23/(1+IVA!$C$2)*IVA!$C$2","v":17285.485359988914},{"$f":"+L23/(1+IVA!$C$2)*IVA!$C$2","v":17285.485359988914},{"$f":"+M23/(1+IVA!$C$2)*IVA!$C$2","v":17285.485359988914}]
[{"$f":"+A24","v":"Imballaggi"},{"$f":"+E24/(1+IVA!$C$2)*IVA!$C$2","v":5041.3876263259781},{"$f":"+F24/(1+IVA!$C$2)*IVA!$C$2","v":5041.3876263259781},{"$f":"+G24/(1+IVA!$C$2)*IVA!$C$2","v":5041.3876263259781},{"$f":"+H24/(1+IVA!$C$2)*IVA!$C$2","v":5041.3876263259781},{"$f":"+I24/(1+IVA!$C$2)*IVA!$C$2","v":5041.3876263259781},{"$f":"+J24/(1+IVA!$C$2)*IVA!$C$2","v":5041.3876263259781},{"$f":"+K24/(1+IVA!$C$2)*IVA!$C$2","v":5041.3876263259781},{"$f":"+L24/(1+IVA!$C$2)*IVA!$C$2","v":5041.3876263259781},{"$f":"+M24/(1+IVA!$C$2)*IVA!$C$2","v":5041.3876263259781},{"$f":"+J48","v":5041.3876263259781},5041.3876263259781,5041.3876263259781]
[{"$f":"+A25","v":"Acquisti per magazzino M.P."},{"$f":"+E25/(1+IVA!$C$2)*IVA!$C$2","v":196614.11742671317},{"$f":"+F25/(1+IVA!$C$2)*IVA!$C$2","v":0},{"$f":"+G25/(1+IVA!$C$2)*IVA!$C$2","v":0},{"$f":"+H25/(1+IVA!$C$2)*IVA!$C$2","v":0},{"$f":"+I25/(1+IVA!$C$2)*IVA!$C$2","v":0},{"$f":"+J25/(1+IVA!$C$2)*IVA!$C$2","v":0},{"$f":"+K25/(1+IVA!$C$2)*IVA!$C$2","v":0},{"$f":"+L25/(1+IVA!$C$2)*IVA!$C$2","v":0},{"$f":"+M25/(1+IVA!$C$2)*IVA!$C$2","v":0},0,0,0]
[]
["Tot. Iva a Credito",{"$f":"SUM(B34:B49)","v":850464.35859016655},{"$f":"+B51+SUM(C34:C49)","v":998314.59975361987},{"$f":"+C51+SUM(D34:D49)","v":1146164.8409170732},1311300.5674405154,1476436.2939639576,1641572.0204873998,{"$f":"+G51+SUM(H34:H49)","v":1806707.747010842},1971843.4735342842,2136979.2000577264,2302114.9265811685,2467250.6531046107,2632386.3796280529]
[]
["Iva a Debito"]
[{"$f":"+A4","v":"Incassi Vendite (iva inclusa)"},null,null,null,{"$f":"+H4/(1+IVA!$C$2)*IVA!$C$2","v":216068.56699986139},{"$f":"+I4/(1+IVA!$C$2)*IVA!$C$2","v":216068.56699986139},{"$f":"+J4/(1+IVA!$C$2)*IVA!$C$2","v":216068.56699986139},{"$f":"+K4/(1+IVA!$C$2)*IVA!$C$2","v":216068.56699986139},{"$f":"+L4/(1+IVA!$C$2)*IVA!$C$2","v":216068.56699986139},{"$f":"+M4/(1+IVA!$C$2)*IVA!$C$2","v":216068.56699986139},{"$f":"+J54","v":216068.56699986139},{"$f":"+K54","v":216068.56699986139},{"$f":"+L54","v":216068.56699986139}]
[]
["Tot. Iva a Debito",null,null,null,{"$f":"+E54","v":216068.56699986139},{"$f":"+E56+F54","v":432137.13399972278},{"$f":"+F56+G54","v":648205.70099958417},{"$f":"+G56+H54","v":864274.26799944555},1080342.8349993071,1296411.4019991686,1512479.9689990301,1728548.5359988916,1944617.1029987531]
[]
["SALDO IVA",{"$f":"+B51-B56","v":850464.35859016655},{"$f":"+C51-C56","v":998314.59975361987},1146164.8409170732,1095232.0004406539,1044299.1599642348,993366.31948781561,{"$f":"+H51-H56","v":942433.47901139641},891500.6385349771,840567.79805855779,789634.95758213848,738702.11710571917,687769.27662929986]

{"sheet":"Fase 6 CE","index":3,"n_rows":30,"n_cols":7,"rows_kept":30,"cut":false,"hidden":false,"merged":[[0,2,1,3]]}
[null,"Fase 6","Conto Economico al Momento 0",null,null,"Mesi dallo start up"]
[null,null,null,null,null,6]
[null,null,"Fatturato",{"$f":"+IVA!D13*('Fase 6 CE'!F2-3)","v":2946389.5499981102}]
[null,null,"Variazione Magazzino P.F.",{"$f":"+'Fasi 1-5'!D53","v":706768.77296519221}]
[null,null,"Valore della Produzione",{"$f":"+D3+D4","v":3653158.3229633025}]
[]
[null,null,{"$f":"+'Fasi 1-5'!C19","v":"Costo del Filato"},{"$f":"-'Fase 6 Budget di Cassa'!E21*'Fase 6 CE'!F2/(1+IVA!C2)-IVA!D23*'Fasi 1-5'!F29","v":-4296637.1815278223}]
[null,null,{"$f":"+'Fasi 1-5'!C20","v":"Costo dell'energia"},{"$f":"-'Fase 6 Budget di Cassa'!B22*'Fase 6 CE'!F2/(1+IVA!C2)","v":-412477.169426671}]
[null,null,{"$f":"+'Fasi 1-5'!C21","v":"Provvigioni"},{"$f":"-'Fase 6 Budget di Cassa'!E23*('Fase 6 CE'!F2-3)/(1+IVA!C2)","v":-235711.16399984888}]
[null,null,{"$f":"+'Fasi 1-5'!C22","v":"Imballaggi"},{"$f":"-'Fase 6 Budget di Cassa'!E24*'Fase 6 CE'!F2/(1+IVA!C2)-'Fasi 1-5'!F31*IVA!D23","v":-171865.4872611129}]
[null,null,"Variazione Magazzino M.P.",{"$f":"+IVA!D23","v":893700.53375778708}]
[null,null,"Costi Variabili",{"$f":"SUM(D7:D11)","v":-4222990.4684576681}]
[null,null,{"$f":"+'Fasi 1-5'!C10","v":"Costo del lavoro"},{"$f":"-'Fase 6 Budget di Cassa'!B15*F2","v":-100000}]
[null,null,{"$f":"+'Fasi 1-5'!C11","v":"Utenze"},{"$f":"-'Fase 6 Budget di Cassa'!B16*F2/(1+IVA!C2)","v":-5000}]
[null,null,{"$f":"+'Fasi 1-5'!C12","v":"Manutenzioni"},{"$f":"-'Fase 6 Budget di Cassa'!E17/(1+IVA!C2)*F2","v":-25000}]
[null,null,{"$f":"+'Fasi 1-5'!C13","v":"Assicurazioni"},{"$f":"-'Fase 6 Budget di Cassa'!B18*F2","v":-150000}]
[null,null,{"$f":"+'Fasi 1-5'!C14","v":"Consulenze"},{"$f":"-'Fase 6 Budget di Cassa'!B19*F2/(1+IVA!C2)","v":-15000}]
[null,null,"Costi Fissi",{"$f":"SUM(D13:D17)","v":-295000}]
[null,null,"EBITDA/MOL",{"$f":"+D3+D12+D18+D4","v":-864832.14549436572}]
[null,null,"Ammortamenti",{"$f":"-'Fasi 1-5'!E5/12*F2","v":-95833.333333333343}]
[null,null,"EBIT/Red.Operativo",{"$f":"+D19+D20","v":-960665.47882769909}]
[null,null,"Interessi passivi a lungo",{"$f":"+'Fasi 1-5'!F7/12*F2","v":-57500}]
[]
[]
[null,"Fase 7b","Interessi passivi a breve",0,0.05,"su PFN a Breve Iniziale"]
[null,null,"Utile Ante Imposte",{"$f":"+D21+D22+D25","v":-1018165.4788276991}]
[]
[]
[null,"Fase 7c","Imposte",null,null,"IRES",0.24]
[null,null,"Utile Netto",{"$f":"+D26+D29","v":-1018165.4788276991},null,"IRAP",3.9E-2]

{"sheet":"Fase 6 SP","index":4,"n_rows":15,"n_cols":7,"rows_kept":15,"cut":false,"hidden":false,"merged":[[0,2,1,6]]}
[null,"Fase 6","Investimenti e Coperture al Momento 0"]
[]
[null,null,"Attivo Immobilizzato",{"$f":"SUM(D4:D6)","v":2204166.6666666665},null,"Posizione Finanziaria Netta",{"$f":"SUM(G4:G5)","v":6714883.7203338537}]
[null,null,{"$f":"+'Fasi 1-5'!C2","v":"Brevetti"},{"$f":"+'Fasi 1-5'!D2-'Fasi 1-5'!E2/12*'Fase 6 CE'!F2","v":487500},null,"Pos. Finanziaria Netta a M/L",{"$f":"+'Fasi 1-5'!D5-('Fase 6 Budget di Cassa'!B11*'Fase 6 CE'!F2)","v":2158757.2087869039}]
[null,null,{"$f":"+'Fasi 1-5'!C3","v":"Impianti"},{"$f":"+'Fasi 1-5'!D3-('Fasi 1-5'!E3/12*'Fase 6 CE'!F2)","v":950000},null,"Pos. Finanziaria Netta a Breve",{"$f":"+D15-G4-G11","v":4556126.5115469499}]
[null,null,{"$f":"+'Fasi 1-5'!C4","v":"Attrezzature"},{"$f":"+'Fasi 1-5'!D4-('Fasi 1-5'!E4/12*'Fase 6 CE'!F2)","v":766666.66666666663}]
[]
[null,null,"Capitale Circolante",{"$f":"SUM(D9:D13)","v":3992551.5748394881},null,"Posizione Tributaria Netta",0]
[null,null,{"$f":"+'Fasi 1-5'!C56","v":"Crediti V/Clienti"},{"$f":"+'Fasi 1-5'!D56","v":3594595.2509976942}]
[null,null,{"$f":"+'Fasi 1-5'!C50","v":"Magazzino Mat. Prima"},{"$f":"+'Fasi 1-5'!D50","v":893700.53375778708}]
[null,null,{"$f":"+'Fasi 1-5'!C53","v":"Magazzino P. Finito"},{"$f":"+'Fasi 1-5'!D53","v":706768.77296519221},null,"Mezzi Propri",{"$f":"+G12+G13","v":-518165.47882769909}]
[null,null,"Credito Iva",{"$f":"+IVA!H9","v":993366.31948781607},null,"Equity",500000]
[null,null,{"$f":"+'Fasi 1-5'!C59","v":"Debiti V/Fornitori"},{"$f":"-'Fasi 1-5'!D59","v":-2195879.3023690009},null,"Utile dell'esercizio",{"$f":"+'Fase 6 CE'!D30","v":-1018165.4788276991}]
[]
[null,null,"Totale Investimenti",{"$f":"+D3+D8","v":6196718.2415061546},null,"Totale Coperture",{"$f":"+G5+G11+G4","v":6196718.2415061546}]

{"sheet":"Fase 7 - 7c-d","index":5,"n_rows":30,"n_cols":7,"rows_kept":30,"cut":false,"hidden":false,"merged":[[0,2,1,3]]}
[null,"Fase 7a","Conto Economico al Momento 1"]
[]
[null,null,"Fatturato",{"$f":"+'Fasi 1-5'!D46-'Fase 8'!D11","v":8839168.6499943305}]
[null,null,"Variazione Magazzino P.F.",{"$f":"+'Fase 8'!D11","v":706768.77296519221}]
[null,null,"Valore della Produzione",{"$f":"+D3+D4","v":9545937.4229595233}]
[]
[null,null,{"$f":"+'Fasi 1-5'!C19","v":"Costo del Filato"},{"$f":"-D3*'Fasi 1-5'!E19-D4*'Fasi 1-5'!E29-D11*'Fasi 1-5'!F29","v":-7733946.9267500807}]
[null,null,{"$f":"+'Fasi 1-5'!C20","v":"Costo dell'energia"},{"$f":"-D3*'Fasi 1-5'!E20-D4*'Fasi 1-5'!E30","v":-824954.33885334188}]
[null,null,{"$f":"+'Fasi 1-5'!C21","v":"Provvigioni"},{"$f":"-($D$5)*'Fasi 1-5'!E21*'Fasi 1-5'!D36","v":-707133.49199954653}]
[null,null,{"$f":"+'Fasi 1-5'!C22","v":"Imballaggi"},{"$f":"-D3*'Fasi 1-5'!E22-'Fase 7 - 7c-d'!D4*'Fasi 1-5'!E31-D11*'Fasi 1-5'!F31","v":-309357.87707000325}]
[null,null,"Variazione Magazzino M.P.",{"$f":"'Fase 8'!D10","v":893700.53375778708}]
[null,null,"Costi Variabili",{"$f":"SUM(D7:D11)","v":-8681692.1009151861},null,{"$f":"+D5+D12","v":864245.32204433717},{"$f":"+F12/D5","v":9.0535406189201223E-2}]
[null,null,{"$f":"+'Fasi 1-5'!C10","v":"Costo del lavoro"},{"$f":"-'Fasi 1-5'!D10","v":-200000}]
[null,null,{"$f":"+'Fasi 1-5'!C11","v":"Utenze"},{"$f":"-'Fasi 1-5'!D11","v":-10000}]
[null,null,{"$f":"+'Fasi 1-5'!C12","v":"Manutenzioni"},{"$f":"-'Fasi 1-5'!D12","v":-50000}]
[null,null,{"$f":"+'Fasi 1-5'!C13","v":"Assicurazioni"},{"$f":"-'Fasi 1-5'!D13","v":-25000}]
[null,null,{"$f":"+'Fasi 1-5'!C14","v":"Consulenze"},{"$f":"-'Fasi 1-5'!D14","v":-30000}]
[null,null,"Costi Fissi",{"$f":"SUM(D13:D17)","v":-315000}]
[null,null,"EBITDA/MOL",{"$f":"+D3+D12+D18+D4","v":549245.32204433659}]
[null,null,"Ammortamenti",{"$f":"-'Fasi 1-5'!E5","v":-191666.66666666669}]
[null,null,"EBIT/Red.Operativo",{"$f":"+D19+D20","v":357578.6553776699}]
[null,null,"Interessi passivi a lungo",{"$f":"+'Fasi 1-5'!F7","v":-115000}]
[]
[]
[null,"Fase 7b","Interessi passivi a breve",{"$f":"-'Fase 7b'!C27","v":-151759.73961814152},0.05,"su PFN a Breve Iniziale"]
[null,null,"Utile Ante Imposte",{"$f":"+D21+D22+D25","v":90818.915759528376}]
[]
[]
[null,"Fase 7c","Imposte",{"$f":"-(G29*D26+G30*(+D26-D25-D22))","v":-35742.107342015937},null,"IRES",0.24]
[null,null,"Utile Netto",{"$f":"+D26+D29","v":55076.808417512439},null,"IRAP",3.9E-2]

{"sheet":"Fase 7b","index":6,"n_rows":29,"n_cols":4,"rows_kept":29,"cut":false,"hidden":false,"merged":[]}
[]
[]
[null,"Proxy PFN Finale"]
[1,"PFN Iniziale",0]
[]
[null,"Flussi di Cassa"]
[null,"Mol",{"$f":"+'Fase 7 - 7c-d'!D19","v":549245.32204433659}]
[null,"CCNC Iniziale",0]
[null,"CCNC Finale",{"$f":"+'Fase 8'!D8","v":3686954.5319809741}]
[null,"Delta CCNC",{"$f":"+C8-C9","v":-3686954.5319809741}]
["A","Cash Flow operativo",{"$f":"+C7+C10","v":-3137709.2099366374}]
[null,"Ammortamenti",{"$f":"+'Fase 7 - 7c-d'!D20","v":-191666.66666666669}]
[null,"Investimenti Netti Iniziali",0]
[null,"Investimenti Netti Finali",{"$f":"+'Fasi 1-5'!D5-'Fasi 1-5'!E5","v":2108333.3333333335}]
[null,"Delta Investimenti",{"$f":"+C14-C13","v":2108333.3333333335}]
["B","Flusso per Investimenti",{"$f":"+C12-C15","v":-2300000}]
[null,"Flusso per Debito a Medio Lungo",{"$f":"+'Fasi 1-5'!D7","v":-397485.5824261927}]
[null,"Erogazioni a medio lungo",{"$f":"+'Fasi 1-5'!D5","v":2300000}]
["C","Flusso netto debito a M/L",{"$f":"+C17+C18","v":1902514.4175738073}]
["D","Cash Flow Fiscale",0]
["E","Flusso Equity",{"$f":"+'Fase 6 SP'!G12","v":500000}]
[]
["2 = A+B+C+D+E","Flussi in uscita",{"$f":"+C11+C16+C19+C20+C21","v":-3035194.7923628301}]
[]
["1+2","PFN a Breve Finale pre Oneri Finanziari",{"$f":"+C4-C23","v":3035194.7923628301}]
[]
[null,"Oneri Finanziari",{"$f":"+AVERAGE(C25)*D27","v":151759.73961814152},0.05]
[]
[null,"PFN a Breve Finale post Oneri Finanziari",{"$f":"+C25+C27","v":3186954.5319809718}]

{"sheet":"Fase 8","index":7,"n_rows":14,"n_cols":7,"rows_kept":14,"cut":false,"hidden":false,"merged":[[0,2,1,6]]}
[null,"Fase 8","Investimenti e Coperture al Momento 1"]
[]
[null,null,"Attivo Immobilizzato",{"$f":"+SUM(D4:D6)","v":2108333.3333333335},null,"Posizione Finanziaria Netta",{"$f":"SUM(G4:G5)","v":5204468.9495547786}]
[null,null,{"$f":"+'Fase 6 SP'!C4","v":"Brevetti"},{"$f":"+'Fasi 1-5'!D2-'Fasi 1-5'!E2","v":475000},null,"Pos. Finanziaria Netta a M/L",{"$f":"+'Fasi 1-5'!D5+'Fasi 1-5'!E7","v":2017514.4175738073}]
[null,null,{"$f":"+'Fase 6 SP'!C5","v":"Impianti"},{"$f":"+'Fasi 1-5'!D3-'Fasi 1-5'!E3","v":900000},null,"Pos. Finanziaria Netta a Breve",{"$f":"+'Fase 7b'!C29","v":3186954.5319809718}]
[null,null,{"$f":"+'Fase 6 SP'!C6","v":"Attrezzature"},{"$f":"+'Fasi 1-5'!D4-'Fasi 1-5'!E4","v":733333.33333333337}]
[]
[null,null,{"$f":"+'Fase 6 SP'!C8","v":"Capitale Circolante"},{"$f":"SUM(D9:D13)","v":3686954.5319809741},null,"Posizione Tributaria Netta",{"$f":"-'Fase 7 - 7c-d'!D29","v":35742.107342015937}]
[null,null,{"$f":"+'Fase 6 SP'!C9","v":"Crediti V/Clienti"},{"$f":"+'Fase 6 SP'!D9","v":3594595.2509976942}]
[null,null,{"$f":"+'Fase 6 SP'!C10","v":"Magazzino Mat. Prima"},{"$f":"+'Fase 6 SP'!D10","v":893700.53375778708},null,"Mezzi Propri",{"$f":"+G11+G12","v":555076.80841751245}]
[null,null,{"$f":"+'Fase 6 SP'!C11","v":"Magazzino P. Finito"},{"$f":"+'Fase 6 SP'!D11","v":706768.77296519221},null,"Equity",{"$f":"+'Fase 6 SP'!G12","v":500000}]
[null,null,"Credito Iva",{"$f":"+IVA!N9","v":687769.2766293016},null,"Utile dell'esercizio",{"$f":"+'Fase 7 - 7c-d'!D30","v":55076.808417512439}]
[null,null,{"$f":"+'Fase 6 SP'!C13","v":"Debiti V/Fornitori"},{"$f":"+'Fase 6 SP'!D13","v":-2195879.3023690009}]
[null,null,"Totale Investimenti",{"$f":"+D3+D8","v":5795287.8653143076},null,"Totale Coperture",{"$f":"+G8+G10+G3","v":5795287.8653143067}]

{"sheet":"Fase 9","index":8,"n_rows":37,"n_cols":4,"rows_kept":37,"cut":false,"hidden":false,"merged":[[0,2,0,3]]}
[null,"Fase 9","Rendiconto Finanziario (Determ. Cash Flow)"]
[null,null,null,"Anno 1"]
[]
[null,null,"EBITDA/M.O.L.",{"$f":"+'Fase 7 - 7c-d'!D19","v":549245.32204433659}]
[null,null,"CCNC Iniziale",0]
[null,null,"CCNC Finale",{"$f":"+'Fase 8'!D8","v":3686954.5319809741}]
[null,null,"Variazione Circolante",{"$f":"+D6-D5","v":3686954.5319809741}]
[]
[null,null,"CASH FLOW OPERATIVO",{"$f":"+D4-D7","v":-3137709.2099366374}]
[]
[null,null,"Ammortamenti",{"$f":"+'Fase 7 - 7c-d'!D20","v":-191666.66666666669}]
[null,null,"Investimenti Iniziali",0]
[null,null,"Investimenti Finali",{"$f":"+'Fase 8'!D3","v":2108333.3333333335}]
[null,null,"Investimenti a patrimonio",{"$f":"+D13-D12","v":2108333.3333333335}]
[null,null,"Flusso di Cassa per investimenti",{"$f":"+D14-D11","v":2300000}]
[]
[null,null,"CASH FLOW DISPONIBILE",{"$f":"+D9-D15","v":-5437709.2099366374}]
[]
[null,null,"Interessi Passivi netti",{"$f":"+'Fase 7 - 7c-d'!D22+'Fase 7 - 7c-d'!D25","v":-266759.73961814155}]
[null,null,"PFN Iniziale",0]
[null,null,"PFN Finale",{"$f":"+'Fase 8'!G3","v":5204468.9495547786}]
[null,null,"Variazione dell'indebitamento finanziario",{"$f":"+D21-D20","v":5204468.9495547786}]
[null,null,"Cash Flow per il servizio del debito",{"$f":"+D22+D19","v":4937709.2099366374}]
[]
[null,null,"Cash Flow per la gestione straordinaria",0]
[]
[null,null,"Imposte d'esercizio",{"$f":"+'Fase 7 - 7c-d'!D29","v":-35742.107342015937}]
[null,null,"PTN Iniziale",0]
[null,null,"PTN Finale",{"$f":"+'Fase 8'!G8","v":35742.107342015937}]
[null,null,"Variazione debiti fiscali",{"$f":"+D29-D28","v":35742.107342015937}]
[null,null,"Cash Flow Fiscale",{"$f":"+D27+D30","v":0}]
[]
[null,null,"Utile",{"$f":"+D4+D11+D19+D25+D27","v":55076.80841751241}]
[null,null,"Equity Iniziale",0]
[null,null,"Equity Finale",{"$f":"+D6+D13-D21-D29","v":555076.80841751304}]
[null,null,"Variazione dei mezzi propri",{"$f":"D35-D34","v":555076.80841751304}]
[null,null,"CASH FLOW DALLA PROPRIETA'",{"$f":"D36-D33","v":500000.00000000064}]

{"sheet":"Fase 10","index":9,"n_rows":6,"n_cols":4,"rows_kept":6,"cut":false,"hidden":false,"merged":[]}
[]
[null,"Fase 10","MdC",{"$f":"+'Fasi 1-5'!D38","v":9.0535406189201292E-2}]
[null,null,"Costi Fissi Operativi",{"$f":"+'Fasi 1-5'!D40","v":315000}]
[null,null,"Valore della Produzione",{"$f":"+'Fasi 1-5'!D46","v":9545937.4229595233}]
[null,null,"Interessi Passivi",{"$f":"+'Fase 7 - 7c-d'!D22+'Fase 7 - 7c-d'!D25","v":-266759.73961814155}]
[null,null,"PFN",{"$f":"+'Fase 8'!G3","v":5204468.9495547786}]