{"text_format":"1","workbook":"xlsx","n_sheets":8,"sheets":["Fasi 1-5","IVA","Fase 6","Fase 7 - 7c-d","Fase 7b","Fase 8","Fase 9","Fase 10"],"not_rendered":{"charts":0,"images":0,"macros":1,"external_links":0,"defined_names":0,"comments":0,"pivot_tables":0},"unopened":[],"bounds":{"document_bytes":16777216,"sheet_cells":100000,"rows_first":2000,"rows_last":500,"rows_between":2000,"halvings":0,"cell_chars":16384,"cell_head_chars":4096},"cells_cut":0,"cells_raw":0,"read":"whole","date_system":"1900"}

{"sheet":"Fasi 1-5","index":0,"n_rows":61,"n_cols":6,"rows_kept":61,"cut":false,"hidden":false,"merged":[[34,1,37,1]]}
[null,"Fase 1","Piano Investimenti","Importo","Ammortamenti Annui"]
[null,null,"Brevetti",500000,{"$f":"+D2/20","v":25000}]
[null,null,"Impianti",1000000,{"$f":"+D3/10","v":100000}]
[null,null,"Attrezzature",800000,{"$f":"+D4/12","v":66666.666666666672}]
[null,null,"Totale",{"$f":"SUM(D2:D4)","v":2300000},{"$f":"SUM(E2:E4)","v":191666.66666666669}]
[null,null,null,"Rata","Quota Capitale","Interessi"]
[null,null,"Finanziamento (7 anni, 5%)"]
[]
[null,"Fase 2","Costi Fissi Industriali","Importo"]
[null,null,"Costo del lavoro",200000]
[null,null,"Utenze",10000]
[null,null,"Manutenzioni",50000]
[null,null,"Assicurazioni",25000]
[null,null,"Consulenze",30000]
[null,null,"Totale",{"$f":"SUM(D10:D14)","v":315000}]
[]
[null,"Fase 3","Costi Variabili Unitari","Importo","Incidenza sul prezzo di vendita"]
[null,null,"Ricavo per Metro Tessuto Greggio",3.5]
[null,null,"Costo del Filato",2.5,{"$f":"+D19/D18","v":0.7142857142857143}]
[null,null,"Costo dell'energia",0.3,{"$f":"+D20/D18","v":8.5714285714285715E-2}]
[null,null,"Provvigioni",0.28000000000000003,{"$f":"+D21/D18","v":0.08}]
[null,null,"Imballaggi",0.1,{"$f":"+D22/D18","v":2.8571428571428574E-2}]
[null,null,"Tot. Costi Variabili",{"$f":"SUM(D19:D22)","v":3.18},{"$f":"+D23/D18","v":0.90857142857142859}]
[null,null,"M.d.C. Unitario",{"$f":"+D18-D23","v":0.31999999999999984},{"$f":"+D24/D18","v":9.1428571428571387E-2}]
[]
[]
[null,"Fase 3b-3c","Margine di Produzione",null,null,"Incidenza su magazzino M.P."]
[null,null,"Costo Industriale pieno per Metro T.G.",3.15,null,"Incidenza su 100%"]
[null,null,{"$f":"+C19","v":"Costo del Filato"},{"$f":"+D19","v":2.5},{"$f":"+D29/$D$28","v":0.79365079365079372},{"$f":"+E29/(E29+E31)","v":0.96153846153846156}]
[null,null,{"$f":"+C20","v":"Costo dell'energia"},{"$f":"+D20","v":0.3},{"$f":"+D30/$D$28","v":9.5238095238095233E-2},0]
[null,null,{"$f":"+C22","v":"Imballaggi"},{"$f":"+D22","v":0.1},3.1746031746031751E-2,{"$f":"+E31/(E31+E29)","v":3.8461538461538464E-2}]
[null,null,{"$f":"+C23","v":"Tot. Costi Variabili"},{"$f":"SUM(D29:D31)","v":2.9},{"$f":"+D32/D28","v":0.92063492063492058}]
[null,null,"M.d.P. Unitario",{"$f":"+D28-D32","v":0.25},{"$f":"+D33/D28","v":7.9365079365079361E-2},{"$f":"SUM(F29:F31)","v":1}]
[]
[null,"Ponderazione Margini per calcolo Valore della Produzione di Break Even",null,"PESI"]
[null,null,"Peso Vendite",null,null,{"$f":"+D36-E36","v":0}]
[null,null,"Peso Delta Magazzino Prodotto Finito",{"$f":"100%-D36","v":1}]
[null,null,"M.d.c. Ponderato",{"$f":"+D36*E24+E33*D37","v":7.9365079365079361E-2}]
[]
[null,"Fase 4","Costi Fissi Operativi",{"$f":"+D15","v":315000}]
[null,"Stima primo break even","Finanziamento Piano Investimenti"]
[null,null,"Interessi Passivi a breve (Fase 7b)",null,{"$f":"+'Fase 7b'!C27","v":18435.716746046626},{"$f":"+D42-E42","v":-18435.716746046626}]
[]
[null,"Uscite Finanziarie Fisse","Somma Flussi in Uscita",{"$f":"SUM(D40:D43)","v":315000}]
[]
[null,"Valore della Produzione","Break Even Finanziario",null,{"$f":"+\"(Flussi in uscita/M.d.C.% = \"&TEXT(D38,\"0,00%\")&\")\"","v":"(Flussi in uscita/M.d.C.% = 7,94%)"}]
[]
[null,"Fase 5"]
[null,"Stima CCNC Attivo","Acquisti M.P. Giornalieri"]
[null,null,"Magazzino Mat. Prima",{"$f":"+D49*E50","v":0},45,"gg"]
[]
[null,null,"Costo del Venduto Giornaliero",{"$f":"+(D15+E5+((((E19+E20+E22)*D36)+((E29+E30+E31)*D37))*D46))/365","v":1388.1278538812785}]
[null,null,"Magazzino P. Finito",{"$f":"+D52*E53","v":41643.835616438359},30,"gg"]
[]
[null,null,"Fatturato Giornaliero",{"$f":"+(D46-D53)/365","v":-114.0927003190092},"Fatturato/365"]
[null,null,"Crediti V/Clienti",{"$f":"+D55*E56*(1+IVA!C2)","v":-12527.378495027209},90,"gg"]
[]
[null,null,"Acquisti Giornalieri",{"$f":"+D49+(D12/365)","v":136.98630136986301}]
[null,"Stima CCNC Passivo","Debiti V/Fornitori",{"$f":"+D58*E59*(1+IVA!C2)","v":15041.095890410958},90,"gg"]
[]
[null,null,"CCNC",{"$f":"+D56+D50+D53-D59","v":14075.361231000192}]

{"sheet":"IVA","index":1,"n_rows":30,"n_cols":14,"rows_kept":30,"cut":false,"hidden":false,"merged":[]}
[null,"Momento 0"]
[null,"Aliquota Iva in vigore",0.22]
[null,"Iva su Investimenti",{"$f":"+'Fasi 1-5'!D5*C2","v":506000},"a Credito"]
[]
[null,null,1,2,3,4,5,6,7,8,9,10,11,12]
[null,"Sviluppo Iva Mensile"]
[null,"Credito",{"$f":"+D28+D30","v":1720.2877437124014},{"$f":"+D28","v":1720.2877437124014},{"$f":"+D7","v":1720.2877437124014},1720.2877437124014,1720.2877437124014,1720.2877437124014,1720.2877437124014,1720.2877437124014,1720.2877437124014,1720.2877437124014,1720.2877437124014,1720.2877437124014]
[null,"Debito",0,0,0,{"$f":"+D14","v":-1017.9604261796044},{"$f":"+F8","v":-1017.9604261796044},-1017.9604261796044,-1017.9604261796044,-1017.9604261796044,-1017.9604261796044,-1017.9604261796044,-1017.9604261796044,-1017.9604261796044]
[null,"Saldo a Credito",{"$f":"+C3+C7-C8","v":507720.28774371243},{"$f":"+C9+D7-D8","v":509440.57548742485},{"$f":"+D9+E7-E8","v":511160.86323113728},{"$f":"+E9+F7-F8","v":513899.11140102928},516637.35957092128,519375.60774081328,522113.85591070529,524852.10408059729,527590.35225048929,530328.60042038129,533066.84859027329,535805.0967601653]
[null,null,null,null,"Picco credito Iva"]
[]
[null,null,"Fatturato",{"$f":"+'Fase 7 - 7c-d'!D3","v":-41643.835616438359}]
[null,null,"Fatturato/9",{"$f":"+D12/9","v":-4627.0928462709289},"(Le vendite partono in differita)"]
[null,null,{"$f":"+\"Fatturato/9*\"&C2","v":"Fatturato/9*0,22"},{"$f":"+D13*C2","v":-1017.9604261796044}]
[]
[null,"Acquisti ad Iva Fissi","Utenze",{"$f":"+'Fasi 1-5'!D11","v":10000}]
[null,null,"Manutenzioni",{"$f":"+'Fasi 1-5'!D12","v":50000}]
[null,null,"Consulenze",{"$f":"+'Fasi 1-5'!D14","v":30000}]
[]
[null,"Acquisti ad Iva Variabili","Costo del Filato",{"$f":"-'Fase 7 - 7c-d'!D7","v":3305.0663187649516}]
[null,null,"Costo dell'energia",{"$f":"-'Fase 7 - 7c-d'!D8","v":396.60795825179366}]
[null,null,"Provvigioni",{"$f":"-'Fase 7 - 7c-d'!D9","v":0}]
[null,null,"Imballaggi",{"$f":"-'Fase 7 - 7c-d'!D10","v":132.20265275059796}]
[null,null,"Acquisti per magazzino M.P.",{"$f":"+'Fasi 1-5'!D50","v":0},"(Immediati)"]
[]
[null,null,"Totale (netto magazzino M.P.)",{"$f":"SUM(D16:D23)-D24","v":93833.876929767343}]
[null,null,"Totale/12",{"$f":"+D26/12","v":7819.4897441472785}]
[null,null,{"$f":"+\"Totale/12*\"&C2","v":"Totale/12*0,22"},{"$f":"+D27*C2","v":1720.2877437124014}]
[]
[null,null,"Iva su Acquisto magazzino M.P.",{"$f":"+D24*C2","v":0},"(caricata su mese 1)"]

{"sheet":"Fase 6","index":2,"n_rows":15,"n_cols":7,"rows_kept":15,"cut":false,"hidden":false,"merged":[[0,2,1,6]]}
[null,"Fase 6","Investimenti e Coperture al Momento 0"]
[]
[null,null,"Attivo Immobilizzato",{"$f":"SUM(D4:D6)","v":2300000},null,"Posizione Finanziaria Netta",{"$f":"SUM(G4:G5)","v":2333450.9689718136}]
[null,null,{"$f":"+'Fasi 1-5'!C2","v":"Brevetti"},{"$f":"+'Fasi 1-5'!D2","v":500000},null,"Pos. Finanziaria Netta a M/L",{"$f":"+'Fasi 1-5'!D5","v":2300000}]
[null,null,{"$f":"+'Fasi 1-5'!C3","v":"Impianti"},{"$f":"+'Fasi 1-5'!D3","v":1000000},null,"Pos. Finanziaria Netta a Breve",{"$f":"+D15-G4-G13","v":33450.968971813563}]
[null,null,{"$f":"+'Fasi 1-5'!C4","v":"Attrezzature"},{"$f":"+'Fasi 1-5'!D4","v":800000}]
[]
[null,null,"Capitale Circolante",{"$f":"SUM(D9:D13)","v":533450.96897181345},null,"Posizione Tributaria Netta",0]
[null,null,{"$f":"+'Fasi 1-5'!C56","v":"Crediti V/Clienti"},{"$f":"+'Fasi 1-5'!D56","v":-12527.378495027209}]
[null,null,{"$f":"+'Fasi 1-5'!C50","v":"Magazzino Mat. Prima"},{"$f":"+'Fasi 1-5'!D50","v":0}]
[null,null,{"$f":"+'Fasi 1-5'!C53","v":"Magazzino P. Finito"},{"$f":"+'Fasi 1-5'!D53","v":41643.835616438359}]
[null,null,"Credito Iva",{"$f":"+IVA!H9","v":519375.60774081328},null,"Mezzi Propri",{"$f":"+G13","v":500000}]
[null,null,{"$f":"+'Fasi 1-5'!C59","v":"Debiti V/Fornitori"},{"$f":"-'Fasi 1-5'!D59","v":-15041.095890410958},null,"Equity",500000]
[]
[null,null,"Totale Investimenti",{"$f":"+D3+D8","v":2833450.9689718136},null,"Totale Coperture",{"$f":"+G5+G13+G4","v":2833450.9689718136}]

{"sheet":"Fase 7 - 7c-d","index":3,"n_rows":30,"n_cols":7,"rows_kept":30,"cut":false,"hidden":false,"merged":[[0,2,1,3]]}
[null,"Fase 7a","Conto Economico al Momento 1"]
[]
[null,null,"Fatturato",{"$f":"+'Fasi 1-5'!D46-'Fase 8'!D11","v":-41643.835616438359}]
[null,null,"Variazione Magazzino P.F.",{"$f":"+'Fase 8'!D11","v":41643.835616438359}]
[null,null,"Valore della Produzione",{"$f":"+D3+D4","v":0}]
[]
[null,null,{"$f":"+'Fasi 1-5'!C19","v":"Costo del Filato"},{"$f":"-D3*'Fasi 1-5'!E19-D4*'Fasi 1-5'!E29-D11*'Fasi 1-5'!F29","v":-3305.0663187649516}]
[null,null,{"$f":"+'Fasi 1-5'!C20","v":"Costo dell'energia"},{"$f":"-D3*'Fasi 1-5'!E20-D4*'Fasi 1-5'!E30","v":-396.60795825179366}]
[null,null,{"$f":"+'Fasi 1-5'!C21","v":"Provvigioni"},{"$f":"-($D$5)*'Fasi 1-5'!E21*'Fasi 1-5'!D36","v":0}]
[null,null,{"$f":"+'Fasi 1-5'!C22","v":"Imballaggi"},{"$f":"-D3*'Fasi 1-5'!E22-'Fase 7 - 7c-d'!D4*'Fasi 1-5'!E31-D11*'Fasi 1-5'!F31","v":-132.20265275059796}]
[null,null,"Variazione Magazzino M.P.",{"$f":"'Fase 8'!D10","v":0}]
[null,null,"Costi Variabili",{"$f":"SUM(D7:D11)","v":-3833.8769297673434}]
[null,null,{"$f":"+'Fasi 1-5'!C10","v":"Costo del lavoro"},{"$f":"-'Fasi 1-5'!D10","v":-200000}]
[null,null,{"$f":"+'Fasi 1-5'!C11","v":"Utenze"},{"$f":"-'Fasi 1-5'!D11","v":-10000}]
[null,null,{"$f":"+'Fasi 1-5'!C12","v":"Manutenzioni"},{"$f":"-'Fasi 1-5'!D12","v":-50000}]
[null,null,{"$f":"+'Fasi 1-5'!C13","v":"Assicurazioni"},{"$f":"-'Fasi 1-5'!D13","v":-25000}]
[null,null,{"$f":"+'Fasi 1-5'!C14","v":"Consulenze"},{"$f":"-'Fasi 1-5'!D14","v":-30000}]
[null,null,"Costi Fissi",{"$f":"SUM(D13:D17)","v":-315000}]
[null,null,"EBITDA/MOL",{"$f":"+D3+D12+D18+D4","v":-318833.87692976737}]
[null,null,"Ammortamenti",{"$f":"-'Fasi 1-5'!E5","v":-191666.66666666669}]
[null,null,"EBIT/Red.Operativo",{"$f":"+D19+D20","v":-510500.54359643406}]
[null,null,"Interessi passivi a lungo",{"$f":"+'Fasi 1-5'!F7","v":0}]
[]
[]
[null,"Fase 7b","Interessi passivi a breve",{"$f":"-'Fase 7b'!C27","v":-18435.716746046626},0.05,"su PFN a Breve Iniziale"]
[null,null,"Utile Ante Imposte",{"$f":"+D21+D22+D25","v":-528936.26034248073}]
[]
[]
[null,"Fase 7c","Imposte",{"$f":"-(G29*D26+G30*(+D26-D25-D22))","v":146854.2236824563},null,"IRES",0.24]
[null,null,"Utile Netto",{"$f":"+D26+D29","v":-382082.03666002443},null,"IRAP",3.9E-2]

{"sheet":"Fase 7b","index":4,"n_rows":29,"n_cols":4,"rows_kept":29,"cut":false,"hidden":false,"merged":[]}
[]
[]
[null,"Proxy PFN Finale"]
[1,"PFN Iniziale",0]
[]
[null,"Flussi di Cassa"]
[null,"Mol",{"$f":"+'Fase 7 - 7c-d'!D19","v":-318833.87692976737}]
[null,"CCNC Iniziale",0]
[null,"CCNC Finale",{"$f":"+'Fase 8'!D8","v":549880.45799116546}]
[null,"Delta CCNC",{"$f":"+C8-C9","v":-549880.45799116546}]
["A","Cash Flow operativo",{"$f":"+C7+C10","v":-868714.33492093277}]
[null,"Ammortamenti",{"$f":"+'Fase 7 - 7c-d'!D20","v":-191666.66666666669}]
[null,"Investimenti Netti Iniziali",0]
[null,"Investimenti Netti Finali",{"$f":"+'Fasi 1-5'!D5-'Fasi 1-5'!E5","v":2108333.3333333335}]
[null,"Delta Investimenti",{"$f":"+C14-C13","v":2108333.3333333335}]
["B","Flusso per Investimenti",{"$f":"+C12-C15","v":-2300000}]
[null,"Flusso per Debito a Medio Lungo",{"$f":"+'Fasi 1-5'!D7","v":0}]
[null,"Erogazioni a medio lungo",{"$f":"+'Fasi 1-5'!D5","v":2300000}]
["C","Flusso netto debito a M/L",{"$f":"+C17+C18","v":2300000}]
["D","Cash Flow Fiscale",0]
["E","Flusso Equity",{"$f":"+'Fase 6'!G13","v":500000}]
[]
["2 = A+B+C+D+E","Flussi in uscita",{"$f":"+C11+C16+C19+C20+C21","v":-368714.33492093254}]
[]
["1+2","PFN a Breve Finale pre Oneri Finanziari",{"$f":"+C4-C23","v":368714.33492093254}]
[]
[null,"Oneri Finanziari",{"$f":"+AVERAGE(C25)*D27","v":18435.716746046626},0.05]
[]
[null,"PFN a Breve Finale post Oneri Finanziari",{"$f":"+C25+C27","v":387150.05166697915}]

{"sheet":"Fase 8","index":5,"n_rows":14,"n_cols":7,"rows_kept":14,"cut":false,"hidden":false,"merged":[[0,2,1,6]]}
[null,"Fase 8","Investimenti e Coperture al Momento 1"]
[]
[null,null,"Attivo Immobilizzato",{"$f":"+SUM(D4:D6)","v":2108333.3333333335},null,"Posizione Finanziaria Netta",{"$f":"SUM(G4:G5)","v":2687150.0516669792}]
[null,null,{"$f":"+'Fase 6'!C4","v":"Brevetti"},{"$f":"+'Fasi 1-5'!D2-'Fasi 1-5'!E2","v":475000},null,"Pos. Finanziaria Netta a M/L",{"$f":"+'Fase 6'!G4+'Fasi 1-5'!E7","v":2300000}]
[null,null,{"$f":"+'Fase 6'!C5","v":"Impianti"},{"$f":"+'Fasi 1-5'!D3-'Fasi 1-5'!E3","v":900000},null,"Pos. Finanziaria Netta a Breve",{"$f":"+'Fase 7b'!C29","v":387150.05166697915}]
[null,null,{"$f":"+'Fase 6'!C6","v":"Attrezzature"},{"$f":"+'Fasi 1-5'!D4-'Fasi 1-5'!E4","v":733333.33333333337}]
[]
[null,null,{"$f":"+'Fase 6'!C8","v":"Capitale Circolante"},{"$f":"SUM(D9:D13)","v":549880.45799116546},null,"Posizione Tributaria Netta",{"$f":"-'Fase 7 - 7c-d'!D29","v":-146854.2236824563}]
[null,null,{"$f":"+'Fase 6'!C9","v":"Crediti V/Clienti"},{"$f":"+'Fase 6'!D9","v":-12527.378495027209}]
[null,null,{"$f":"+'Fase 6'!C10","v":"Magazzino Mat. Prima"},{"$f":"+'Fase 6'!D10","v":0},null,"Mezzi Propri",{"$f":"+G11+G12","v":117917.96333997557}]
[null,null,{"$f":"+'Fase 6'!C11","v":"Magazzino P. Finito"},{"$f":"+'Fase 6'!D11","v":41643.835616438359},null,"Equity",{"$f":"+'Fase 6'!G13","v":500000}]
[null,null,"Credito Iva",{"$f":"+IVA!N9","v":535805.0967601653},null,"Utile dell'esercizio",{"$f":"+'Fase 7 - 7c-d'!D30","v":-382082.03666002443}]
[null,null,{"$f":"+'Fase 6'!C13","v":"Debiti V/Fornitori"},{"$f":"+'Fase 6'!D13","v":-15041.095890410958}]
[null,null,"Totale Investimenti",{"$f":"+D3+D8","v":2658213.7913244991},null,"Totale Coperture",{"$f":"+G8+G10+G3","v":2658213.7913244986}]

{"sheet":"Fase 9","index":6,"n_rows":37,"n_cols":4,"rows_kept":37,"cut":false,"hidden":false,"merged":[[0,2,0,3]]}
[null,"Fase 9","Rendiconto Finanziario (Determ. Cash Flow)"]
[null,null,null,"Anno 1"]
[]
[null,null,"EBITDA/M.O.L.",{"$f":"+'Fase 7 - 7c-d'!D19","v":-318833.87692976737}]
[null,null,"CCNC Iniziale",0]
[null,null,"CCNC Finale",{"$f":"+'Fase 8'!D8","v":549880.45799116546}]
[null,null,"Variazione Circolante",{"$f":"+D6-D5","v":549880.45799116546}]
[]
[null,null,"CASH FLOW OPERATIVO",{"$f":"+D4-D7","v":-868714.33492093277}]
[]
[null,null,"Ammortamenti",{"$f":"+'Fase 7 - 7c-d'!D20","v":-191666.66666666669}]
[null,null,"Investimenti Iniziali",0]
[null,null,"Investimenti Finali",{"$f":"+'Fase 8'!D3","v":2108333.3333333335}]
[null,null,"Investimenti a patrimonio",{"$f":"+D13-D12","v":2108333.3333333335}]
[null,null,"Flusso di Cassa per investimenti",{"$f":"+D14-D11","v":2300000}]
[]
[null,null,"CASH FLOW DISPONIBILE",{"$f":"+D9-D15","v":-3168714.3349209325}]
[]
[null,null,"Interessi Passivi netti",{"$f":"+'Fase 7 - 7c-d'!D22+'Fase 7 - 7c-d'!D25","v":-18435.716746046626}]
[null,null,"PFN Iniziale",0]
[null,null,"PFN Finale",{"$f":"+'Fase 8'!G3","v":2687150.0516669792}]
[null,null,"Variazione dell'indebitamento finanziario",{"$f":"+D21-D20","v":2687150.0516669792}]
[null,null,"Cash Flow per il servizio del debito",{"$f":"+D22+D19","v":2668714.3349209325}]
[]
[null,null,"Cash Flow per la gestione straordinaria",0]
[]
[null,null,"Imposte d'esercizio",{"$f":"+'Fase 7 - 7c-d'!D29","v":146854.2236824563}]
[null,null,"PTN Iniziale",0]
[null,null,"PTN Finale",{"$f":"+'Fase 8'!G8","v":-146854.2236824563}]
[null,null,"Variazione debiti fiscali",{"$f":"+D29-D28","v":-146854.2236824563}]
[null,null,"Cash Flow Fiscale",{"$f":"+D27+D30","v":0}]
[]
[null,null,"Utile",{"$f":"+D4+D11+D19+D25+D27","v":-382082.03666002443}]
[null,null,"Equity Iniziale",0]
[null,null,"Equity Finale",{"$f":"+D6+D13-D21-D29","v":117917.96333997615}]
[null,null,"Variazione dei mezzi propri",{"$f":"D35-D34","v":117917.96333997615}]
[null,null,"CASH FLOW DALLA PROPRIETA'",{"$f":"D36-D33","v":500000.00000000058}]

{"sheet":"Fase 10","index":7,"n_rows":6,"n_cols":4,"rows_kept":6,"cut":false,"hidden":false,"merged":[]}
[]
[null,"Fase 10","MdC",{"$f":"+'Fasi 1-5'!D38","v":7.9365079365079361E-2}]
[null,null,"Costi Fissi Operativi",{"$f":"+'Fasi 1-5'!D40","v":315000}]
[null,null,"Valore della Produzione",{"$f":"+'Fasi 1-5'!D46","v":0}]
[null,null,"Interessi Passivi",{"$f":"+'Fase 7 - 7c-d'!D22+'Fase 7 - 7c-d'!D25","v":-18435.716746046626}]
[null,null,"PFN",{"$f":"+'Fase 8'!G3","v":2687150.0516669792}]